BEGIN:VCALENDAR
VERSION:2.0
PRODID:-//Chodovská tvrz - ECPv5.7.0//NONSGML v1.0//EN
CALSCALE:GREGORIAN
METHOD:PUBLISH
X-WR-CALNAME:Chodovská tvrz
X-ORIGINAL-URL:https://chodovskatvrz.cz
X-WR-CALDESC:Akce na Chodovská tvrz
BEGIN:VTIMEZONE
TZID:Europe/Prague
BEGIN:DAYLIGHT
TZOFFSETFROM:+0100
TZOFFSETTO:+0200
TZNAME:CEST
DTSTART:20250330T010000
END:DAYLIGHT
BEGIN:STANDARD
TZOFFSETFROM:+0200
TZOFFSETTO:+0100
TZNAME:CET
DTSTART:20251026T010000
END:STANDARD
END:VTIMEZONE
BEGIN:VEVENT
DTSTART;TZID=Europe/Prague:20250424T190000
DTEND;TZID=Europe/Prague:20250424T203000
DTSTAMP:20260421T210541
CREATED:20250222T142851Z
LAST-MODIFIED:20250404T151728Z
UID:6803-1745521200-1745526600@chodovskatvrz.cz
SUMMARY:ART KINO TVRZ: Jára Cimrman ležící\, spící
DESCRIPTION:Brilantní komedie Zdeňka Svěráka a Ladislava Smoljaka rozkrývá životní příběh neprávem zapomenutého génia\, odhaluje rozsah a obsah jeho díla a umisťuje protagonistu do historických souvislostí. \nPřijďte se pobavit třeba po komentované prohlídce výstavy na českou klasiku. Akce na sebe plynule navazují. \nStolková úprava\, drobné občerstvení z restaurace je možno vzít s sebou do sálu. \nZ důvodu omezené kapacity doporučujeme koupit vstupenky předem nebo si vytvořit rezervaci. \n(CZ 1983\, 82 min.\, režie: Ladislav Smoljak) \n 
URL:https://chodovskatvrz.cz/udalost/art-kino-tvrz-jara-cimrman-lezici-spici/
LOCATION:Malý sál Chodovské tvrze\, Ledvinova 9\, Praha 4\, 14900\, Česká republika
CATEGORIES:Kino
ATTACH;FMTTYPE=image/jpeg:https://chodovskatvrz.cz/wp-content/uploads/2025/02/jara-cimrman.jpg
END:VEVENT
END:VCALENDAR