BEGIN:VCALENDAR
VERSION:2.0
PRODID:-//Chodovská tvrz - ECPv5.7.0//NONSGML v1.0//EN
CALSCALE:GREGORIAN
METHOD:PUBLISH
X-WR-CALNAME:Chodovská tvrz
X-ORIGINAL-URL:https://chodovskatvrz.cz
X-WR-CALDESC:Akce na Chodovská tvrz
BEGIN:VTIMEZONE
TZID:Europe/Prague
BEGIN:DAYLIGHT
TZOFFSETFROM:+0100
TZOFFSETTO:+0200
TZNAME:CEST
DTSTART:20250330T010000
END:DAYLIGHT
BEGIN:STANDARD
TZOFFSETFROM:+0200
TZOFFSETTO:+0100
TZNAME:CET
DTSTART:20251026T010000
END:STANDARD
END:VTIMEZONE
BEGIN:VEVENT
DTSTART;TZID=Europe/Prague:20250515T190000
DTEND;TZID=Europe/Prague:20250515T210000
DTSTAMP:20260421T184645
CREATED:20250331T130809Z
LAST-MODIFIED:20250404T151653Z
UID:6851-1747335600-1747342800@chodovskatvrz.cz
SUMMARY:ART KINO TVRZ: Pásmo filmů Jiřího Trnky (CZ 1946 -1955\, 72 min.)  
DESCRIPTION:DÁREK (režie: J. Trnka a J. Krejčík\, 1946) – Groteska o strastech autora filmového námětu.  \nPÉRÁK A SS (1946) – Satira z období 2. světové války inspirovaná pražskou pověstí o záhadném hrdinovi. \nOSUDY DOBRÉHO VOJÁKA ŠVEJKA I. (1954) – Loutková adaptace kapitoly ze stejnojmenného románu J. Haška\, v níž Švejk kupuje zakázaný koňak.  \nOSUDY DOBRÉHO VOJÁKA ŠVEJKA II. (1955) – Epizoda ze stejnojmenného románu J. Haška o nepříjemnostech\, které způsobí voják Švejk ve vlaku.  \nStolková úprava\, drobné občerstvení z restaurace je možno vzít s sebou do sálu. \nZ důvodu omezené kapacity doporučujeme koupit vstupenky předem nebo si vytvořit rezervaci. \n 
URL:https://chodovskatvrz.cz/udalost/art-kino-tvrz-pasmo-filmu-jiriho-trnky/
LOCATION:Malá galerie
CATEGORIES:Kino
ATTACH;FMTTYPE=image/jpeg:https://chodovskatvrz.cz/wp-content/uploads/2025/03/jiri-trnka-sen-noci-svatojanske.jpg
END:VEVENT
END:VCALENDAR