BEGIN:VCALENDAR
VERSION:2.0
PRODID:-//Chodovská tvrz - ECPv5.7.0//NONSGML v1.0//EN
CALSCALE:GREGORIAN
METHOD:PUBLISH
X-WR-CALNAME:Chodovská tvrz
X-ORIGINAL-URL:https://chodovskatvrz.cz
X-WR-CALDESC:Akce na Chodovská tvrz
BEGIN:VTIMEZONE
TZID:Europe/Prague
BEGIN:DAYLIGHT
TZOFFSETFROM:+0100
TZOFFSETTO:+0200
TZNAME:CEST
DTSTART:20230326T010000
END:DAYLIGHT
BEGIN:STANDARD
TZOFFSETFROM:+0200
TZOFFSETTO:+0100
TZNAME:CET
DTSTART:20231029T010000
END:STANDARD
END:VTIMEZONE
BEGIN:VEVENT
DTSTART;TZID=Europe/Prague:20230913T180000
DTEND;TZID=Europe/Prague:20230913T190000
DTSTAMP:20260426T040855
CREATED:20230706T161306Z
LAST-MODIFIED:20230706T170620Z
UID:5722-1694628000-1694631600@chodovskatvrz.cz
SUMMARY:Beseda: Tajemné království Saudské Arábie
DESCRIPTION:Cestovatelská přednáška cestovatele\, průvodce a spisovatele Martina Půlpána. \nVítejte v zemi proroka Mohameda. Vítejte v zemi\, která je opředená tajemstvím a která se teprve nedávno otevřela světu. Vítejte v pouštním království\, které vás naprosto pohltí svou krásou a historií. Saúdská Arábie je opředena mnoha mýty\, ale jak skutečně vypadá země\, na jejímž území se nachází nejsvatější místa islámu? Společně projdeme jak zdejší pouště plné historických oáz\, navštívíme svaté město Medina\, kde je pohřben prorok Muhammad\, objevíme malé horské vesničky na hranici s Jemenem\, ale hlavně poznáme místní přátelské obyvatele\, s kterými dobrodruh a cestovatel Martin Půlpán trávil každý den. Společně se tak dostaneme do míst\, kam se normální turista nepodívá. S pastevci budeme pást velbloudy\, projdeme barevné trhy\, ale také se podíváme\, jak se v Saudské Arábii kempuje nebo jak probíhá rodinná rada\, kde se rozhoduje o důležitých rodinných záležitostech. Hlavně si ale ukážeme spoustu zajímavostí\, které jsou symbolické pouze pro Saudskou Arábii. Pouštní království 21. století. \n 
URL:https://chodovskatvrz.cz/udalost/beseda-tajemne-kralovstvi-saudske-arabie/
LOCATION:Velký sál Chodovské tvrze\, Ledvinova 9\, Praha 4\, 14900\, Česká republika
CATEGORIES:Besedy
ATTACH;FMTTYPE=image/jpeg:https://chodovskatvrz.cz/wp-content/uploads/2023/07/7.jpg
END:VEVENT
END:VCALENDAR