BEGIN:VCALENDAR
VERSION:2.0
PRODID:-//Chodovská tvrz - ECPv5.7.0//NONSGML v1.0//EN
CALSCALE:GREGORIAN
METHOD:PUBLISH
X-WR-CALNAME:Chodovská tvrz
X-ORIGINAL-URL:https://chodovskatvrz.cz
X-WR-CALDESC:Akce na Chodovská tvrz
BEGIN:VTIMEZONE
TZID:Europe/Prague
BEGIN:DAYLIGHT
TZOFFSETFROM:+0100
TZOFFSETTO:+0200
TZNAME:CEST
DTSTART:20230326T010000
END:DAYLIGHT
BEGIN:STANDARD
TZOFFSETFROM:+0200
TZOFFSETTO:+0100
TZNAME:CET
DTSTART:20231029T010000
END:STANDARD
END:VTIMEZONE
BEGIN:VEVENT
DTSTART;TZID=Europe/Prague:20230901T130000
DTEND;TZID=Europe/Prague:20230924T190000
DTSTAMP:20260426T040911
CREATED:20230814T101035Z
LAST-MODIFIED:20230814T114458Z
UID:5799-1693573200-1695582000@chodovskatvrz.cz
SUMMARY:DĚTSKÁ KERAMIKA NA JIŽNÍM MĚSTĚ
DESCRIPTION:Práce dětí z hodin keramiky Barbory Dančové ze ZŠ Klíček\, Tekly Pletichové\, která vede děti v MŠ Křejpského a ZŠ Kupeckého a Jakuba Otha z dílny v Komunitním centru Matky Terezy (Keramista.cz). \n  \nLektoři: \nBarbora Dančová \nTekla Pletichová \nJakub Oth \n  \nNa obě výstavy\, Andy Warhol a Dětská keramika na Jižním Městě\, je jednotné vstupné: 100/50 Kč. \nVstup na výstavu dětské keramiky je pro školy a školky z Prahy 11 zdarma.
URL:https://chodovskatvrz.cz/udalost/detska-keramika-na-jiznim-meste/
LOCATION:Malá galerie
CATEGORIES:Výstavy
ATTACH;FMTTYPE=image/jpeg:https://chodovskatvrz.cz/wp-content/uploads/2023/08/DSCF1299_ctver-scaled-e1692007785654.jpg
END:VEVENT
END:VCALENDAR