BEGIN:VCALENDAR
VERSION:2.0
PRODID:-//Chodovská tvrz - ECPv5.7.0//NONSGML v1.0//EN
CALSCALE:GREGORIAN
METHOD:PUBLISH
X-WR-CALNAME:Chodovská tvrz
X-ORIGINAL-URL:https://chodovskatvrz.cz
X-WR-CALDESC:Akce na Chodovská tvrz
BEGIN:VTIMEZONE
TZID:Europe/Prague
BEGIN:DAYLIGHT
TZOFFSETFROM:+0100
TZOFFSETTO:+0200
TZNAME:CEST
DTSTART:20220327T010000
END:DAYLIGHT
BEGIN:STANDARD
TZOFFSETFROM:+0200
TZOFFSETTO:+0100
TZNAME:CET
DTSTART:20221030T010000
END:STANDARD
END:VTIMEZONE
BEGIN:VEVENT
DTSTART;TZID=Europe/Prague:20220623T200000
DTEND;TZID=Europe/Prague:20220623T220000
DTSTAMP:20260425T010706
CREATED:20220514T065721Z
LAST-MODIFIED:20220514T100307Z
UID:4583-1656014400-1656021600@chodovskatvrz.cz
SUMMARY:Divadlo Na Jezerce: Charleyova teta
DESCRIPTION:Studenti Charley a Jack chtějí požádat své vyvolené o ruku. Shodou okolností má Charleyho navštívit bohatá tetička z Brazílie. Její příjezd se ale opozdí\, a tak studenti donutí spolužáka Babse\, aby se přestrojil a kryl jim záda v úloze tetičky. Celý příběh ovšem zkomplikuje příjezd pravé tety a Babsovy lásky Elly. (režie: Jan Hrušínský). \nVstupné: 450 Kč. Senioři: 360 Kč. Děti do 10 let v doprovodu rodičů: zdarma.
URL:https://chodovskatvrz.cz/udalost/divadlo-na-jezerce-charleyova-teta/
LOCATION:Nádvoří Chodovské tvrze\, Ledvinova 9\, Praha 4\, 149 00\, Česká republika
CATEGORIES:Divadlo
ATTACH;FMTTYPE=image/jpeg:https://chodovskatvrz.cz/wp-content/uploads/2022/05/Charleyova-teta.jpg
END:VEVENT
END:VCALENDAR