BEGIN:VCALENDAR
VERSION:2.0
PRODID:-//Chodovská tvrz - ECPv5.7.0//NONSGML v1.0//EN
CALSCALE:GREGORIAN
METHOD:PUBLISH
X-WR-CALNAME:Chodovská tvrz
X-ORIGINAL-URL:https://chodovskatvrz.cz
X-WR-CALDESC:Akce na Chodovská tvrz
BEGIN:VTIMEZONE
TZID:Europe/Prague
BEGIN:DAYLIGHT
TZOFFSETFROM:+0100
TZOFFSETTO:+0200
TZNAME:CEST
DTSTART:20220327T010000
END:DAYLIGHT
BEGIN:STANDARD
TZOFFSETFROM:+0200
TZOFFSETTO:+0100
TZNAME:CET
DTSTART:20221030T010000
END:STANDARD
END:VTIMEZONE
BEGIN:VEVENT
DTSTART;TZID=Europe/Prague:20220619T200000
DTEND;TZID=Europe/Prague:20220619T220000
DTSTAMP:20260425T053635
CREATED:20220511T082858Z
LAST-MODIFIED:20220514T100106Z
UID:4577-1655668800-1655676000@chodovskatvrz.cz
SUMMARY:Divadlo Na Jezerce: Takový žertík
DESCRIPTION:Komedie o tom\, že o rozchodech se nemá žertovat.\nŽivot na francouzském venkově\, letní dům\, piknik v přírodě a pohoda narušená nevinným žertíkem o rozchodu manželského páru považovaného všemi přáteli za ideální. Čechovovsky laděná komedie uvedená v české premiéře Divadlem Na Jezerce byla v Paříži vyhlášena hrou roku.  \nVstupné: 400 Kč. Senioři: 320 Kč. Děti do 10 let v doprovodu rodičů: zdarma.
URL:https://chodovskatvrz.cz/udalost/divadlo-na-jezerce-takovy-zertik/
LOCATION:Nádvoří Chodovské tvrze\, Ledvinova 9\, Praha 4\, 149 00\, Česká republika
CATEGORIES:Divadlo
ATTACH;FMTTYPE=image/jpeg:https://chodovskatvrz.cz/wp-content/uploads/2022/05/Takovy-zertik.jpg
END:VEVENT
END:VCALENDAR