BEGIN:VCALENDAR
VERSION:2.0
PRODID:-//Chodovská tvrz - ECPv5.7.0//NONSGML v1.0//EN
CALSCALE:GREGORIAN
METHOD:PUBLISH
X-WR-CALNAME:Chodovská tvrz
X-ORIGINAL-URL:https://chodovskatvrz.cz
X-WR-CALDESC:Akce na Chodovská tvrz
BEGIN:VTIMEZONE
TZID:Europe/Prague
BEGIN:DAYLIGHT
TZOFFSETFROM:+0100
TZOFFSETTO:+0200
TZNAME:CEST
DTSTART:20250330T010000
END:DAYLIGHT
BEGIN:STANDARD
TZOFFSETFROM:+0200
TZOFFSETTO:+0100
TZNAME:CET
DTSTART:20251026T010000
END:STANDARD
END:VTIMEZONE
BEGIN:VEVENT
DTSTART;TZID=Europe/Prague:20251111T190000
DTEND;TZID=Europe/Prague:20251111T203000
DTSTAMP:20260419T231837
CREATED:20251004T145831Z
LAST-MODIFIED:20251105T130921Z
UID:7414-1762887600-1762893000@chodovskatvrz.cz
SUMMARY:HUDEBNÍ SVĚTY TOMÁŠE MACHA
DESCRIPTION:Listopadový koncert houslisty Tomáše Macha nabídne ještě více klasiky a ještě větší nálož vlastních originálních kompozic. Můžete se těšit na cestu časem a prostorem\, z Čech přes Argentinu až do Japonska. Z baroka až po dnešek. Tomáš Mach hraje na mistrovský nástroj Riccarda Bergonziho\, Cremona. \nDíky spolupráci KJM o.p.s. s programem Corrency mohou registrovaní občané Prahy 11 čerpat finanční příspěvek na tuto akci. \n\n Více informací a registrace: https://kulturapraha11.corrency.cz/kultura/ 
URL:https://chodovskatvrz.cz/udalost/hudebni-svety-tomase-macha-3/
LOCATION:Velký sál Chodovské tvrze\, Ledvinova 9\, Praha 4\, 14900\, Česká republika
CATEGORIES:Koncerty
ATTACH;FMTTYPE=image/jpeg:https://chodovskatvrz.cz/wp-content/uploads/2025/09/Tomas-Mach.jpg
END:VEVENT
END:VCALENDAR