BEGIN:VCALENDAR
VERSION:2.0
PRODID:-//Chodovská tvrz - ECPv5.7.0//NONSGML v1.0//EN
CALSCALE:GREGORIAN
METHOD:PUBLISH
X-WR-CALNAME:Chodovská tvrz
X-ORIGINAL-URL:https://chodovskatvrz.cz
X-WR-CALDESC:Akce na Chodovská tvrz
BEGIN:VTIMEZONE
TZID:Europe/Prague
BEGIN:DAYLIGHT
TZOFFSETFROM:+0100
TZOFFSETTO:+0200
TZNAME:CEST
DTSTART:20190331T010000
END:DAYLIGHT
BEGIN:STANDARD
TZOFFSETFROM:+0200
TZOFFSETTO:+0100
TZNAME:CET
DTSTART:20191027T010000
END:STANDARD
END:VTIMEZONE
BEGIN:VEVENT
DTSTART;TZID=Europe/Prague:20191216T160000
DTEND;TZID=Europe/Prague:20191216T170000
DTSTAMP:20260423T132710
CREATED:20191108T153929Z
LAST-MODIFIED:20191108T153929Z
UID:2186-1576512000-1576515600@chodovskatvrz.cz
SUMMARY:Jana Rychterová a spol.
DESCRIPTION:V podání písničkářky a kytaristky Jany Rychterové zazní na nádvoří Chodovské tvrze nejen vánoční písně a koledy pro tu správnou adventní atmosféru. Doprovodí ji výborný Radim Linhart na klavír a Michal Žára na housle. \nNádvoří Chodovské tvrze. \nVstup zdarma.
URL:https://chodovskatvrz.cz/udalost/jana-rychterova-a-spol/
LOCATION:Nádvoří Chodovské tvrze\, Ledvinova 9\, Praha 4\, 149 00\, Česká republika
CATEGORIES:Koncerty
ATTACH;FMTTYPE=image/jpeg:https://chodovskatvrz.cz/wp-content/uploads/2019/11/jana_rychterová.jpg
END:VEVENT
END:VCALENDAR