BEGIN:VCALENDAR
VERSION:2.0
PRODID:-//Chodovská tvrz - ECPv5.7.0//NONSGML v1.0//EN
CALSCALE:GREGORIAN
METHOD:PUBLISH
X-WR-CALNAME:Chodovská tvrz
X-ORIGINAL-URL:https://chodovskatvrz.cz
X-WR-CALDESC:Akce na Chodovská tvrz
BEGIN:VTIMEZONE
TZID:Europe/Prague
BEGIN:DAYLIGHT
TZOFFSETFROM:+0100
TZOFFSETTO:+0200
TZNAME:CEST
DTSTART:20190331T010000
END:DAYLIGHT
BEGIN:STANDARD
TZOFFSETFROM:+0200
TZOFFSETTO:+0100
TZNAME:CET
DTSTART:20191027T010000
END:STANDARD
END:VTIMEZONE
BEGIN:VEVENT
DTSTART;TZID=Europe/Prague:20190425T200000
DTEND;TZID=Europe/Prague:20190425T213000
DTSTAMP:20260424T201610
CREATED:20190308T161351Z
LAST-MODIFIED:20190315T140604Z
UID:1431-1556222400-1556227800@chodovskatvrz.cz
SUMMARY:Jazz klub Tvrz: F. U. T. - František Uhlíř Team
DESCRIPTION:Kontrabasista František Uhlíř patří ke generaci hráčů ve světě označované jako „česká basová škola“. Dlouhá léta byl členem skupiny SHQ Karla Velebného\, Barock Jazz Q a formací pianisty Emila Viklického. Komorní hudba skupiny F. U. T.  pečlivě balancuje a vyvěrá ze vzájemné interakce jednotlivých hráčů\, kteří nabízejí překvapující možnosti změny barev a výrazu. Program vystoupení je sestaven převážně ze slavných standardů swingové\, latinské a bluesové hudby.\nVedle dvou českých legend – Františka Uhlíře na kontrabas a Jaromíra Helešice na bicí – zazpívá a zahraje na kytaru též Marek Šmaus. \nVstupné 160/110 Kč. (Restaurace Chodovská tvrz – kapacita omezena)
URL:https://chodovskatvrz.cz/udalost/jazz-klub-tvrz-f-u-t-frantisek-uhlir-team/
LOCATION:Restaurace Chodovská tvrz\, Ledvinova 9\, Praha 4\, 14900\, Česká republika
ATTACH;FMTTYPE=image/jpeg:https://chodovskatvrz.cz/wp-content/uploads/2019/03/Jazz-klub-Tvrz-František-Uhlíř-Team.jpg
END:VEVENT
END:VCALENDAR