BEGIN:VCALENDAR
VERSION:2.0
PRODID:-//Chodovská tvrz - ECPv5.7.0//NONSGML v1.0//EN
CALSCALE:GREGORIAN
METHOD:PUBLISH
X-WR-CALNAME:Chodovská tvrz
X-ORIGINAL-URL:https://chodovskatvrz.cz
X-WR-CALDESC:Akce na Chodovská tvrz
BEGIN:VTIMEZONE
TZID:Europe/Prague
BEGIN:DAYLIGHT
TZOFFSETFROM:+0100
TZOFFSETTO:+0200
TZNAME:CEST
DTSTART:20220327T010000
END:DAYLIGHT
BEGIN:STANDARD
TZOFFSETFROM:+0200
TZOFFSETTO:+0100
TZNAME:CET
DTSTART:20221030T010000
END:STANDARD
END:VTIMEZONE
BEGIN:VEVENT
DTSTART;TZID=Europe/Prague:20220526T200000
DTEND;TZID=Europe/Prague:20220526T213000
DTSTAMP:20260422T085619
CREATED:20220407T162148Z
LAST-MODIFIED:20220517T090115Z
UID:4463-1653595200-1653600600@chodovskatvrz.cz
SUMMARY:Jazz klub tvrz: Radek's Group
DESCRIPTION:Jazzové standardy ve své nejautentičtější podobě. Bubeník a perkusista Radek Němejc přizývá do svého vlastního projektu jedny z nejlepších hráčů na tuzemské jazzové scéně včetně zajímavých hostů ze zahraničí. Všechny muzikanty propojuje hluboký vztah k jazzové tradici\, která v sobě zahrnuje nejrůznější muzikantské vlivy a přístupy. Tomu odpovídá i repertoár\, který vzdává hold velikánům jazzové hudby a jejich dílu a současně poskytuje inspiraci pro autorské skladby členů kapely. Piano – Jakub Tokoly (SR)\, baskytara – Tomáš Baroš/Josef Fečo\, bicí – Radek Němejc. 
URL:https://chodovskatvrz.cz/udalost/jazz-klub-tvrz-radeks-group/
LOCATION:Velký sál Chodovské tvrze\, Ledvinova 9\, Praha 4\, 14900\, Česká republika
CATEGORIES:Koncerty
ATTACH;FMTTYPE=image/jpeg:https://chodovskatvrz.cz/wp-content/uploads/2022/04/Nemejc.jpg
END:VEVENT
END:VCALENDAR