BEGIN:VCALENDAR
VERSION:2.0
PRODID:-//Chodovská tvrz - ECPv5.7.0//NONSGML v1.0//EN
CALSCALE:GREGORIAN
METHOD:PUBLISH
X-WR-CALNAME:Chodovská tvrz
X-ORIGINAL-URL:https://chodovskatvrz.cz
X-WR-CALDESC:Akce na Chodovská tvrz
BEGIN:VTIMEZONE
TZID:Europe/Prague
BEGIN:DAYLIGHT
TZOFFSETFROM:+0100
TZOFFSETTO:+0200
TZNAME:CEST
DTSTART:20220327T010000
END:DAYLIGHT
BEGIN:STANDARD
TZOFFSETFROM:+0200
TZOFFSETTO:+0100
TZNAME:CET
DTSTART:20221030T010000
END:STANDARD
END:VTIMEZONE
BEGIN:VEVENT
DTSTART;TZID=Europe/Prague:20220311T190000
DTEND;TZID=Europe/Prague:20220311T203000
DTSTAMP:20260422T123139
CREATED:20220207T110923Z
LAST-MODIFIED:20220207T110923Z
UID:4334-1647025200-1647030600@chodovskatvrz.cz
SUMMARY:Jedenáctky: Operní večer na Tvrzi
DESCRIPTION:Eva Hartová a Tereza Papoušková – dva soprány na Chodovské tvrzi. Filip Martinka – klavír. Na koncertu zazní operní árie W. A Mozarta\, J.Strausse\, P.I.Čajkovského a G. Pucciniho. 
URL:https://chodovskatvrz.cz/udalost/jedenactky-operni-vecer-na-tvrzi/
LOCATION:Velký sál Chodovské tvrze\, Ledvinova 9\, Praha 4\, 14900\, Česká republika
CATEGORIES:Koncerty
ATTACH;FMTTYPE=image/jpeg:https://chodovskatvrz.cz/wp-content/uploads/2021/09/90606422_109327227373432_7925290640621961216_n-e1633016473442.jpg
END:VEVENT
END:VCALENDAR