BEGIN:VCALENDAR
VERSION:2.0
PRODID:-//Chodovská tvrz - ECPv5.7.0//NONSGML v1.0//EN
CALSCALE:GREGORIAN
METHOD:PUBLISH
X-WR-CALNAME:Chodovská tvrz
X-ORIGINAL-URL:https://chodovskatvrz.cz
X-WR-CALDESC:Akce na Chodovská tvrz
BEGIN:VTIMEZONE
TZID:Europe/Prague
BEGIN:DAYLIGHT
TZOFFSETFROM:+0100
TZOFFSETTO:+0200
TZNAME:CEST
DTSTART:20220327T010000
END:DAYLIGHT
BEGIN:STANDARD
TZOFFSETFROM:+0200
TZOFFSETTO:+0100
TZNAME:CET
DTSTART:20221030T010000
END:STANDARD
END:VTIMEZONE
BEGIN:VEVENT
DTSTART;TZID=Europe/Prague:20220421T193000
DTEND;TZID=Europe/Prague:20220421T210000
DTSTAMP:20260422T104321
CREATED:20220315T103139Z
LAST-MODIFIED:20220330T164025Z
UID:4397-1650569400-1650574800@chodovskatvrz.cz
SUMMARY:KerenDun & Nitai Hershkovits (Izrael) 
DESCRIPTION:KerenDun a Nitai Hershkovits se představí v intimní komunikaci a „bez masek“  \nDvojice izraelských hudebníků se rozhodla vyklouznout z klišé\, jaké pro mnohé představuje zpěv za doprovodu piana. Rozšíření písňové formy ve svobodomyslnou\, přesto celistvou a sdílnou hudební fantasii představí v sále Chodovské tvrze.  \nhttp://jmw.cz/cs/p/keren-dun-nitai-hershkovits \n 
URL:https://chodovskatvrz.cz/udalost/kerendun-nitai-hershkovits%e2%80%afizrael/
LOCATION:Velký sál Chodovské tvrze\, Ledvinova 9\, Praha 4\, 14900\, Česká republika
CATEGORIES:Koncerty
ATTACH;FMTTYPE=image/jpeg:https://chodovskatvrz.cz/wp-content/uploads/2022/03/Kerendun.jpg
END:VEVENT
END:VCALENDAR