BEGIN:VCALENDAR
VERSION:2.0
PRODID:-//Chodovská tvrz - ECPv5.7.0//NONSGML v1.0//EN
CALSCALE:GREGORIAN
METHOD:PUBLISH
X-WR-CALNAME:Chodovská tvrz
X-ORIGINAL-URL:https://chodovskatvrz.cz
X-WR-CALDESC:Akce na Chodovská tvrz
BEGIN:VTIMEZONE
TZID:Europe/Prague
BEGIN:DAYLIGHT
TZOFFSETFROM:+0100
TZOFFSETTO:+0200
TZNAME:CEST
DTSTART:20250330T010000
END:DAYLIGHT
BEGIN:STANDARD
TZOFFSETFROM:+0200
TZOFFSETTO:+0100
TZNAME:CET
DTSTART:20251026T010000
END:STANDARD
END:VTIMEZONE
BEGIN:VEVENT
DTSTART;TZID=Europe/Prague:20250209T150000
DTEND;TZID=Europe/Prague:20250209T170000
DTSTAMP:20260421T173609
CREATED:20241215T151633Z
LAST-MODIFIED:20250130T153651Z
UID:6662-1739113200-1739120400@chodovskatvrz.cz
SUMMARY:KINO Chodovská tvrz: Cesta do pravěku
DESCRIPTION:V únoru se nově v Malé galerii Chodovské tvrze otevře Kino Chodovská tvrz\, které bude nabízet programy dvojího typu. \nPrvním z nich je Rodinné retro kino Tvrz – s programem určeným všem napříč generacemi. \nZačínáme již 9. 2. 2025 v 15 hod. Cestou do Pravěku\, zbrusu nově restaurovaným kultovním filmem tvorby Karla Zemana\, v původním znění s anglickými titulky.  \nKe stolkové úpravě je možné donést si drobné občerstvení z místní restaurace. \nOd března 2025 začneme v podvečer promítat filmy staré\, historické či intelektuální\, s jistým uměleckým a filosofickým přesahem. Cyklus jsme nazvali Art Kino Tvrz\, promítat budeme od 17 hod. \n  \nVšichni jste srdečně zváni! \n  \n 
URL:https://chodovskatvrz.cz/udalost/kino-chodovska-tvrz-cesta-do-praveku/
LOCATION:Malá galerie
ATTACH;FMTTYPE=image/jpeg:https://chodovskatvrz.cz/wp-content/uploads/2024/12/Cesta-do-praveku.jpg
END:VEVENT
END:VCALENDAR