BEGIN:VCALENDAR
VERSION:2.0
PRODID:-//Chodovská tvrz - ECPv5.7.0//NONSGML v1.0//EN
CALSCALE:GREGORIAN
METHOD:PUBLISH
X-WR-CALNAME:Chodovská tvrz
X-ORIGINAL-URL:https://chodovskatvrz.cz
X-WR-CALDESC:Akce na Chodovská tvrz
BEGIN:VTIMEZONE
TZID:Europe/Prague
BEGIN:DAYLIGHT
TZOFFSETFROM:+0100
TZOFFSETTO:+0200
TZNAME:CEST
DTSTART:20250330T010000
END:DAYLIGHT
BEGIN:STANDARD
TZOFFSETFROM:+0200
TZOFFSETTO:+0100
TZNAME:CET
DTSTART:20251026T010000
END:STANDARD
END:VTIMEZONE
BEGIN:VEVENT
DTSTART;TZID=Europe/Prague:20250320T190000
DTEND;TZID=Europe/Prague:20250320T210000
DTSTAMP:20260421T220459
CREATED:20250204T172104Z
LAST-MODIFIED:20250207T185051Z
UID:6741-1742497200-1742504400@chodovskatvrz.cz
SUMMARY:Kino CHODOVSKÁ TVRZ: Putování Jana Amose
DESCRIPTION:ART KINO TVRZ: PUTOVÁNÍ JANA AMOSE – věnováno všem učitelům (1983\, Otakar Vávra) \nŽivot „učitele národů“\, Jana Amose Komenského\, se stal inspirací pro román Miloše V. Kratochvíla (1975). Ten v roce 1983 poskytl předlohu historickému snímku\, pod nímž je vedle spisovatele-adaptátora podepsán i režisér Otakar Vávra. Ten se k žánru historického filmu\, spojeného s reálnými osobnostmi české historie\, vracel v průběhu celé své rozsáhlé tvůrčí kariéry. Putování Jana Amose v závěru režisérovy filmografie tak ústrojně zapadá mezi ostatní Vávrovy biografické snímky (Příběh lásky a cti /1977/\, Oldřich a Božena /1984/\, Veronika /1985/). Titulní protagonista v ikonickém podání Ladislava Chudíka prožívá ve filmu pohnuté osudy\, které se po porážce českých stavů na Bílé Hoře mění v permanentní útěk před pronásledovateli „nekatolické“ víry. Vizi Komenského jako učence a mírotvůrce mají vyvážit scény z hrdinova rodinného života. \nKe stolkové úpravě je možné donést si drobné občerstvení z místní restaurace. \n  \n 
URL:https://chodovskatvrz.cz/udalost/kino-chodovska-tvrz-putovani-jana-amose/
LOCATION:Malá galerie
CATEGORIES:Kino
ATTACH;FMTTYPE=image/png:https://chodovskatvrz.cz/wp-content/uploads/2025/02/Putovani-Jana-Amose.png
END:VEVENT
END:VCALENDAR