BEGIN:VCALENDAR
VERSION:2.0
PRODID:-//Chodovská tvrz - ECPv5.7.0//NONSGML v1.0//EN
CALSCALE:GREGORIAN
METHOD:PUBLISH
X-WR-CALNAME:Chodovská tvrz
X-ORIGINAL-URL:https://chodovskatvrz.cz
X-WR-CALDESC:Akce na Chodovská tvrz
BEGIN:VTIMEZONE
TZID:Europe/Prague
BEGIN:DAYLIGHT
TZOFFSETFROM:+0100
TZOFFSETTO:+0200
TZNAME:CEST
DTSTART:20190331T010000
END:DAYLIGHT
BEGIN:STANDARD
TZOFFSETFROM:+0200
TZOFFSETTO:+0100
TZNAME:CET
DTSTART:20191027T010000
END:STANDARD
END:VTIMEZONE
BEGIN:VEVENT
DTSTART;TZID=Europe/Prague:20190418T180000
DTEND;TZID=Europe/Prague:20190418T190000
DTSTAMP:20260424T213744
CREATED:20190308T162445Z
LAST-MODIFIED:20190312T145322Z
UID:1446-1555610400-1555614000@chodovskatvrz.cz
SUMMARY:Komentovaná prohlídka k výstavě Z hradu do zámku
DESCRIPTION:Komentovaná prohlídka s malířkou se koná 18. 4. 2019 od 18 hodin.
URL:https://chodovskatvrz.cz/udalost/komentovana-prohlidka-k-vystave-z-hradu-do-zamku/
LOCATION:Velká galerie Chodovské tvrze\, Ledvinova 9\, Praha 4\, 14900\, Česká republika
CATEGORIES:Výstavy
ATTACH;FMTTYPE=image/jpeg:https://chodovskatvrz.cz/wp-content/uploads/2019/03/Z-hradu-do-zámku.jpg
END:VEVENT
END:VCALENDAR