BEGIN:VCALENDAR
VERSION:2.0
PRODID:-//Chodovská tvrz - ECPv5.7.0//NONSGML v1.0//EN
CALSCALE:GREGORIAN
METHOD:PUBLISH
X-WR-CALNAME:Chodovská tvrz
X-ORIGINAL-URL:https://chodovskatvrz.cz
X-WR-CALDESC:Akce na Chodovská tvrz
BEGIN:VTIMEZONE
TZID:Europe/Prague
BEGIN:DAYLIGHT
TZOFFSETFROM:+0100
TZOFFSETTO:+0200
TZNAME:CEST
DTSTART:20230326T010000
END:DAYLIGHT
BEGIN:STANDARD
TZOFFSETFROM:+0200
TZOFFSETTO:+0100
TZNAME:CET
DTSTART:20231029T010000
END:STANDARD
END:VTIMEZONE
BEGIN:VEVENT
DTSTART;TZID=Europe/Prague:20230914T180000
DTEND;TZID=Europe/Prague:20230914T190000
DTSTAMP:20260426T040539
CREATED:20230727T133744Z
LAST-MODIFIED:20230727T133849Z
UID:5783-1694714400-1694718000@chodovskatvrz.cz
SUMMARY:Komentovaná prohlídka výstavy
DESCRIPTION:Andy Warhol patřil mezi zakládající členy novodobého uměleckého směru POP – ARTU. Projevy pop-artu byly zřetelné nejprve v oblasti časopisů a novin\, především pak v oblasti reklamy. Viněty z konzerv\, barvou retušované fotografie\, komiksy\, portréty z plakátů\, to vše povyšuje pop-art na umění.  Andy Warhol byl jednou z nejpřevratnějších postav tohoto směru. Svou tvorbou i nevšedním životem ho pomáhal vytvářet a propagovat. Byl tvůrcem nové propagandy\, jeho společenské kontakty byly magnetem pro mladé umělce\, intelektuály\, celebrity i boháče hledající vytržení z nudy běžného života. Warhol neustále vzbuzoval kontroverze\, jeho umění bylo osočováno z falešnosti a povrchnosti\, vždy však bylo vysoce originální a vymykalo se jakékoliv kategorizaci.  \nNa výstavě uvidíte velkoplošné serigrafie květů\, ikonických osobností veřejného života 20. století i jeho kultovní plechovky od polévek.  \nKomentovanou prohlídkou výstavy vás provede kurátorka Chodovské tvrze: Mgr. Pavla Vaňková.
URL:https://chodovskatvrz.cz/udalost/komentovana-prohlidka-vystavy-8/
LOCATION:Velká galerie Chodovské tvrze\, Ledvinova 9\, Praha 4\, 14900\, Česká republika
CATEGORIES:Výstavy
ATTACH;FMTTYPE=image/jpeg:https://chodovskatvrz.cz/wp-content/uploads/2023/07/Marylin-e1690463874860.jpg
END:VEVENT
END:VCALENDAR