BEGIN:VCALENDAR
VERSION:2.0
PRODID:-//Chodovská tvrz - ECPv5.7.0//NONSGML v1.0//EN
CALSCALE:GREGORIAN
METHOD:PUBLISH
X-WR-CALNAME:Chodovská tvrz
X-ORIGINAL-URL:https://chodovskatvrz.cz
X-WR-CALDESC:Akce na Chodovská tvrz
BEGIN:VTIMEZONE
TZID:Europe/Prague
BEGIN:DAYLIGHT
TZOFFSETFROM:+0100
TZOFFSETTO:+0200
TZNAME:CEST
DTSTART:20230326T010000
END:DAYLIGHT
BEGIN:STANDARD
TZOFFSETFROM:+0200
TZOFFSETTO:+0100
TZNAME:CET
DTSTART:20231029T010000
END:STANDARD
END:VTIMEZONE
BEGIN:VEVENT
DTSTART;TZID=Europe/Prague:20230221T180000
DTEND;TZID=Europe/Prague:20230221T190000
DTSTAMP:20260425T172026
CREATED:20230117T181226Z
LAST-MODIFIED:20230117T181226Z
UID:5287-1677002400-1677006000@chodovskatvrz.cz
SUMMARY:Komentovaná prohlídka výstavy Boris Jirků: Z cest
DESCRIPTION:Komentovaná prohlídka výstavy Boris Jirků: Z cest. Výstavou provede kurátorka Galerie Chodovské tvrze\, Mgr. Pavla Vaňková.
URL:https://chodovskatvrz.cz/udalost/komentovana-prohlidka-vystavy-boris-jirku-z-cest/
LOCATION:Velká galerie Chodovské tvrze\, Ledvinova 9\, Praha 4\, 14900\, Česká republika
CATEGORIES:Výstavy
ATTACH;FMTTYPE=image/jpeg:https://chodovskatvrz.cz/wp-content/uploads/2023/01/Boris-Jirku-Kostel-sv.-Petra-a-Pavla-v-Jistebniku-80x100-1.jpg
END:VEVENT
END:VCALENDAR