BEGIN:VCALENDAR
VERSION:2.0
PRODID:-//Chodovská tvrz - ECPv5.7.0//NONSGML v1.0//EN
CALSCALE:GREGORIAN
METHOD:PUBLISH
X-WR-CALNAME:Chodovská tvrz
X-ORIGINAL-URL:https://chodovskatvrz.cz
X-WR-CALDESC:Akce na Chodovská tvrz
BEGIN:VTIMEZONE
TZID:Europe/Prague
BEGIN:DAYLIGHT
TZOFFSETFROM:+0100
TZOFFSETTO:+0200
TZNAME:CEST
DTSTART:20230326T010000
END:DAYLIGHT
BEGIN:STANDARD
TZOFFSETFROM:+0200
TZOFFSETTO:+0100
TZNAME:CET
DTSTART:20231029T010000
END:STANDARD
END:VTIMEZONE
BEGIN:VEVENT
DTSTART;TZID=Europe/Prague:20230705T200000
DTEND;TZID=Europe/Prague:20230705T220000
DTSTAMP:20260426T012022
CREATED:20230221T140904Z
LAST-MODIFIED:20230518T085523Z
UID:5368-1688587200-1688594400@chodovskatvrz.cz
SUMMARY:Letní scéna Divadla Na Jezerce: Takový žertík
DESCRIPTION:TAKOVÝ ŽERTÍK-Jean Dell\, Gérald Sibleyras  \nKOMEDIE O TOM\, ŽE O ROZCHODECH SE NEMÁ ŽERTOVAT.\nŽivot na francouzském venkově\, letní dům\, piknik v přírodě a pohoda narušená nevinným žertíkem o rozchodu manželského páru považovaného všemi přáteli za ideální. Čechovovsky laděná komedie uvedená v české premiéře Divadlem Na Jezerce byla v Paříži vyhlášena hrou roku.  \nZákladní vstupné: 450 Kč. Pro držitele průkazu ZTP/P a ZTP: 350 Kč.
URL:https://chodovskatvrz.cz/udalost/letni-scena-divadla-na-jezerce-takovy-zertik-2/
LOCATION:Nádvoří Chodovské tvrze\, Ledvinova 9\, Praha 4\, 149 00\, Česká republika
CATEGORIES:Divadlo
ATTACH;FMTTYPE=image/jpeg:https://chodovskatvrz.cz/wp-content/uploads/2023/02/Snimek-obrazovky-2023-02-21-150621.jpg
END:VEVENT
END:VCALENDAR