BEGIN:VCALENDAR
VERSION:2.0
PRODID:-//Chodovská tvrz - ECPv5.7.0//NONSGML v1.0//EN
CALSCALE:GREGORIAN
METHOD:PUBLISH
X-WR-CALNAME:Chodovská tvrz
X-ORIGINAL-URL:https://chodovskatvrz.cz
X-WR-CALDESC:Akce na Chodovská tvrz
BEGIN:VTIMEZONE
TZID:Europe/Prague
BEGIN:DAYLIGHT
TZOFFSETFROM:+0100
TZOFFSETTO:+0200
TZNAME:CEST
DTSTART:20230326T010000
END:DAYLIGHT
BEGIN:STANDARD
TZOFFSETFROM:+0200
TZOFFSETTO:+0100
TZNAME:CET
DTSTART:20231029T010000
END:STANDARD
END:VTIMEZONE
BEGIN:VEVENT
DTSTART;TZID=Europe/Prague:20230426T130000
DTEND;TZID=Europe/Prague:20230730T190000
DTSTAMP:20260425T205005
CREATED:20230419T151826Z
LAST-MODIFIED:20230620T141952Z
UID:5528-1682514000-1690743600@chodovskatvrz.cz
SUMMARY:Malá galerie: Naďa Prchalová : #tojekunst - výstava fotografií
DESCRIPTION:Prostor Malé galerie pro umělce Jižního Města. Výstava fotografií.
URL:https://chodovskatvrz.cz/udalost/mala-galerie-nada-prchalova-tojekunst-vystava-fotografii/
LOCATION:Malá galerie
CATEGORIES:Výstavy
ATTACH;FMTTYPE=image/jpeg:https://chodovskatvrz.cz/wp-content/uploads/2023/04/to-je-kunst-IG-FB-post-PRODLOUZENO.jpg
END:VEVENT
END:VCALENDAR