BEGIN:VCALENDAR
VERSION:2.0
PRODID:-//Chodovská tvrz - ECPv5.7.0//NONSGML v1.0//EN
CALSCALE:GREGORIAN
METHOD:PUBLISH
X-WR-CALNAME:Chodovská tvrz
X-ORIGINAL-URL:https://chodovskatvrz.cz
X-WR-CALDESC:Akce na Chodovská tvrz
BEGIN:VTIMEZONE
TZID:Europe/Prague
BEGIN:DAYLIGHT
TZOFFSETFROM:+0100
TZOFFSETTO:+0200
TZNAME:CEST
DTSTART:20190331T010000
END:DAYLIGHT
BEGIN:STANDARD
TZOFFSETFROM:+0200
TZOFFSETTO:+0100
TZNAME:CET
DTSTART:20191027T010000
END:STANDARD
END:VTIMEZONE
BEGIN:VEVENT
DTSTART;TZID=Europe/Prague:20190331T170000
DTEND;TZID=Europe/Prague:20190331T183000
DTSTAMP:20260423T200647
CREATED:20190227T182027Z
LAST-MODIFIED:20190301T115434Z
UID:1278-1554051600-1554057000@chodovskatvrz.cz
SUMMARY:MAŽIF VIII: Roland Pichler & Ivo Truhlář
DESCRIPTION:Vezměme nádobu a naplňme jí písněmi! To je Klezmer. Tak zasněná a melancholická\, a přece radostná a rozpustilá je hudba východoevropských židů. Fascinuje svou jednoduchostí a jedinečností. Hudba\, která přichází od srdce a jde k srdci. \nTak by se dal definovat styl Klezmer\, který zazní na Chodovské tvrzi poslední březnový den v rámci již osmého ročníku mezinárodního hudebního festivalu židovské hudby – Mažif. Vystoupí dva vynikající interpreti: Roland Pichler (klarinet) a Ivo Truhlář (kytara). „Chceme naše publikum unést do světa\, který už v podstatě neexistuje. Zpíváme písně o jednoduchém životě\, hrajeme melodie\, které se nás dotýkají a nás potěší\, představujeme naší hudbu tak\, jak jí sami vidíme: plnou života\, kontrastů a barev.“\, říká Ivo Truhlář.
URL:https://chodovskatvrz.cz/udalost/mazif-viii-roland-pichler-ivo-truhlar/
LOCATION:Velký sál Chodovské tvrze\, Ledvinova 9\, Praha 4\, 14900\, Česká republika
CATEGORIES:Koncerty
ATTACH;FMTTYPE=image/jpeg:https://chodovskatvrz.cz/wp-content/uploads/2019/02/MAŽIF-Roland-Pichler-Ivo-Truhlář.jpg
END:VEVENT
END:VCALENDAR