BEGIN:VCALENDAR
VERSION:2.0
PRODID:-//Chodovská tvrz - ECPv5.7.0//NONSGML v1.0//EN
CALSCALE:GREGORIAN
METHOD:PUBLISH
X-WR-CALNAME:Chodovská tvrz
X-ORIGINAL-URL:https://chodovskatvrz.cz
X-WR-CALDESC:Akce na Chodovská tvrz
BEGIN:VTIMEZONE
TZID:Europe/Prague
BEGIN:DAYLIGHT
TZOFFSETFROM:+0100
TZOFFSETTO:+0200
TZNAME:CEST
DTSTART:20220327T010000
END:DAYLIGHT
BEGIN:STANDARD
TZOFFSETFROM:+0200
TZOFFSETTO:+0100
TZNAME:CET
DTSTART:20221030T010000
END:STANDARD
END:VTIMEZONE
BEGIN:VEVENT
DTSTART;TZID=Europe/Prague:20220210T190000
DTEND;TZID=Europe/Prague:20220210T203000
DTSTAMP:20260422T122915
CREATED:20220105T183927Z
LAST-MODIFIED:20220105T185808Z
UID:4291-1644519600-1644525000@chodovskatvrz.cz
SUMMARY:Melodie pro každého
DESCRIPTION:Po kratší přestávce se můžete těšit na tradiční setkání s Melodiemi pro každého. Uslyšíte písničky z časů první republiky až po léta šedesátá\, sedmdesátá a vlastně téměř až do současnosti. Pestrým repertoárem se Vám pokusí zpříjemnit večer a navodit spokojenou náladu Erik Bezdíček a Václav Vedral.\n \n  \n 
URL:https://chodovskatvrz.cz/udalost/melodie-pro-kazdeho-19/
LOCATION:Restaurace Chodovská tvrz\, Ledvinova 9\, Praha 4\, 14900\, Česká republika
CATEGORIES:Koncerty
ATTACH;FMTTYPE=image/jpeg:https://chodovskatvrz.cz/wp-content/uploads/2022/01/Vedral-a-Bezdicek.jpg
END:VEVENT
END:VCALENDAR