BEGIN:VCALENDAR
VERSION:2.0
PRODID:-//Chodovská tvrz - ECPv5.7.0//NONSGML v1.0//EN
CALSCALE:GREGORIAN
METHOD:PUBLISH
X-WR-CALNAME:Chodovská tvrz
X-ORIGINAL-URL:https://chodovskatvrz.cz
X-WR-CALDESC:Akce na Chodovská tvrz
BEGIN:VTIMEZONE
TZID:Europe/Prague
BEGIN:DAYLIGHT
TZOFFSETFROM:+0100
TZOFFSETTO:+0200
TZNAME:CEST
DTSTART:20250330T010000
END:DAYLIGHT
BEGIN:STANDARD
TZOFFSETFROM:+0200
TZOFFSETTO:+0100
TZNAME:CET
DTSTART:20251026T010000
END:STANDARD
END:VTIMEZONE
BEGIN:VEVENT
DTSTART;TZID=Europe/Prague:20250522T190000
DTEND;TZID=Europe/Prague:20250522T213000
DTSTAMP:20260421T153600
CREATED:20250331T140654Z
LAST-MODIFIED:20250331T140824Z
UID:6859-1747940400-1747949400@chodovskatvrz.cz
SUMMARY:Melodie pro každého
DESCRIPTION:Již potřetí Vás letos zveme na společné setkání a třeba i společné zpívání písniček\, které se už skoro v rozhlase ani v televizi nehrají. Jako vždy jsme přichystali melodie z časů první republiky a dalších let až do těch šedesátých – osmdesátých. Zazní ovšem jiné melodie než minule\, ač od některých stejných autorů\, které většinou všichni dobře známe: K. Hašler\, trojice J. Voskovec\, J. Werich a J. Ježek\, J. Suchý a J. Šlitr. Vzpomeneme také na písničky W. Matušky či K. Gotta. Chybět nebudou ani nějaké muzikály a operetky. Jako vždy si můžete zakoupit občerstvení v restauraci a přinést si ho do sálu.  \nÚčinkují: Erik Bezdíček – emeritní sólista opery a operety DJKT v Plzni\, klavírní doprovod: Václav Vedral – hudební skladatel a učitel  \n  \nKULTURNÍ JIŽNÍ MĚSTO o. p. s. poskytuje individuální slevy ze vstupného pro seniory\, studenty\, ZTP a ZTP/P. \n  \n 
URL:https://chodovskatvrz.cz/udalost/melodie-pro-kazdeho-35/
LOCATION:Velký sál Chodovské tvrze\, Ledvinova 9\, Praha 4\, 14900\, Česká republika
CATEGORIES:Koncerty
ATTACH;FMTTYPE=image/jpeg:https://chodovskatvrz.cz/wp-content/uploads/2024/08/Erik-a-Vaclav-scaled-e1723642789529.jpg
END:VEVENT
END:VCALENDAR