BEGIN:VCALENDAR
VERSION:2.0
PRODID:-//Chodovská tvrz - ECPv5.7.0//NONSGML v1.0//EN
CALSCALE:GREGORIAN
METHOD:PUBLISH
X-WR-CALNAME:Chodovská tvrz
X-ORIGINAL-URL:https://chodovskatvrz.cz
X-WR-CALDESC:Akce na Chodovská tvrz
BEGIN:VTIMEZONE
TZID:Europe/Prague
BEGIN:DAYLIGHT
TZOFFSETFROM:+0100
TZOFFSETTO:+0200
TZNAME:CEST
DTSTART:20230326T010000
END:DAYLIGHT
BEGIN:STANDARD
TZOFFSETFROM:+0200
TZOFFSETTO:+0100
TZNAME:CET
DTSTART:20231029T010000
END:STANDARD
END:VTIMEZONE
BEGIN:VEVENT
DTSTART;TZID=Europe/Prague:20230308T190000
DTEND;TZID=Europe/Prague:20230308T203000
DTSTAMP:20260422T020927
CREATED:20230131T141341Z
LAST-MODIFIED:20230131T141341Z
UID:5330-1678302000-1678307400@chodovskatvrz.cz
SUMMARY:Michal Foltýn / Mio Sakamoto
DESCRIPTION:Koncert pro housle a klavír. Během koncertu zazní například Sonáta hlavního představitele 1. vídeňské školy W. A. Mozarta či Sonatina Franze Schuberta\, jehož hudba se vyznačuje mimořádnou\, až písňovou zpěvností. Michal Foltýn – housle. Mio Sakamoto – klavír.   \n 
URL:https://chodovskatvrz.cz/udalost/michal-foltyn-mio-sakamoto-2/
LOCATION:Velký sál Chodovské tvrze\, Ledvinova 9\, Praha 4\, 14900\, Česká republika
CATEGORIES:Koncerty
ATTACH;FMTTYPE=image/jpeg:https://chodovskatvrz.cz/wp-content/uploads/2022/10/Michal-Foltyn-1.jpg
END:VEVENT
END:VCALENDAR