BEGIN:VCALENDAR
VERSION:2.0
PRODID:-//Chodovská tvrz - ECPv5.7.0//NONSGML v1.0//EN
CALSCALE:GREGORIAN
METHOD:PUBLISH
X-WR-CALNAME:Chodovská tvrz
X-ORIGINAL-URL:https://chodovskatvrz.cz
X-WR-CALDESC:Akce na Chodovská tvrz
BEGIN:VTIMEZONE
TZID:Europe/Prague
BEGIN:DAYLIGHT
TZOFFSETFROM:+0100
TZOFFSETTO:+0200
TZNAME:CEST
DTSTART:20220327T010000
END:DAYLIGHT
BEGIN:STANDARD
TZOFFSETFROM:+0200
TZOFFSETTO:+0100
TZNAME:CET
DTSTART:20221030T010000
END:STANDARD
END:VTIMEZONE
BEGIN:VEVENT
DTSTART;TZID=Europe/Prague:20220522T150000
DTEND;TZID=Europe/Prague:20220522T160000
DTSTAMP:20260425T040109
CREATED:20220407T163752Z
LAST-MODIFIED:20220407T163752Z
UID:4472-1653231600-1653235200@chodovskatvrz.cz
SUMMARY:Nedělní pohádka pro děti: Cirkusárium
DESCRIPTION:Na vědomost se dává\, že do vašeho města přijíždí nejmenší zvířecí cirkusové varieté na světě. Tento cirkus je ojedinělý tím\, že v něm žádných lidí nevystupuje anóbrž program čistě ze zvířecích kousků jest sestaven. Nenechte si náš cirkus ujít neb se již nemusí opakovat\, každé představení je originál. Zveme malé a velké\, tlusté i tenké! Loutkové představení Cirkusárium je vytvořené na počest kočovných loutkářů\, jenž se se svými pimprlaty do dalekých dálek vydávali. Tvořili si trikové loutky\, které dokázaly svými pohyby a kejkly udivovat nejedno zahraniční publikum. Podobné trikové principy budete moci vidět v našem cirkusovém představení. Dále je Cirlusárium věnováno všem ohroženým živočišným druhům a rádi bychom apelovali na výjimečnost a nenahraditelnost každého živočicha na této planetě. Hraje divadlo Toymachine. 
URL:https://chodovskatvrz.cz/udalost/nedelni-pohadka-pro-deti-cirkusarium/
LOCATION:Velký sál Chodovské tvrze\, Ledvinova 9\, Praha 4\, 14900\, Česká republika
CATEGORIES:Dětské programy,Divadlo
ATTACH;FMTTYPE=image/jpeg:https://chodovskatvrz.cz/wp-content/uploads/2022/04/Cirkusarium1.jpg
END:VEVENT
END:VCALENDAR