BEGIN:VCALENDAR
VERSION:2.0
PRODID:-//Chodovská tvrz - ECPv5.7.0//NONSGML v1.0//EN
CALSCALE:GREGORIAN
METHOD:PUBLISH
X-WR-CALNAME:Chodovská tvrz
X-ORIGINAL-URL:https://chodovskatvrz.cz
X-WR-CALDESC:Akce na Chodovská tvrz
BEGIN:VTIMEZONE
TZID:Europe/Prague
BEGIN:DAYLIGHT
TZOFFSETFROM:+0100
TZOFFSETTO:+0200
TZNAME:CEST
DTSTART:20250330T010000
END:DAYLIGHT
BEGIN:STANDARD
TZOFFSETFROM:+0200
TZOFFSETTO:+0100
TZNAME:CET
DTSTART:20251026T010000
END:STANDARD
END:VTIMEZONE
BEGIN:VEVENT
DTSTART;TZID=Europe/Prague:20251109T150000
DTEND;TZID=Europe/Prague:20251109T160000
DTSTAMP:20260420T010452
CREATED:20251004T143739Z
LAST-MODIFIED:20251004T144709Z
UID:7408-1762700400-1762704000@chodovskatvrz.cz
SUMMARY:Nedělní pohádka pro děti: Jak slon Bubi hledal kamaráda
DESCRIPTION:Hodně hudební\, veselá\, činoherně-loutková pohádka o jednom slonovi\, který se tak trochu vytahoval a naparoval před ostatními. Měl totiž pocit\, že je ze všech největší a nejsilnější. Jenomže každý živý tvor potřebuje kamaráda\, potřebuje si s někým hrát\, povídat si\, zažít dobrodružství. A jemu se všichni spíše vyhýbali\, jak se ho báli. Všichni\, až na jednoho velmi malinkatého tvora…ale to už se nechte překvapit… \nV představení\, které mimo jiné učí děti\, jak naložit se svými strachy\, je použita spousta hudebních nástrojů\, které dotvářejí atmosféru příběhu\, jako je kalimba\, dešťová tyč\, ozvučná miska\, koshi chimes\, kazoo. Samotného slona Bubiho představuje velký buben. A jak už je u nás tradicí…celý příběh provází řada autorských písniček… \nHrají: Michal Vaněk a Zuzka Vaňková \nDivadlo Matýsek
URL:https://chodovskatvrz.cz/udalost/nedelni-pohadka-pro-deti-jak-slon-bubi-hledal-kamarada/
LOCATION:Velký sál Chodovské tvrze\, Ledvinova 9\, Praha 4\, 14900\, Česká republika
CATEGORIES:Dětské programy
ATTACH;FMTTYPE=image/jpeg:https://chodovskatvrz.cz/wp-content/uploads/2025/10/Slon-Bubi.jpg
END:VEVENT
END:VCALENDAR