BEGIN:VCALENDAR
VERSION:2.0
PRODID:-//Chodovská tvrz - ECPv5.7.0//NONSGML v1.0//EN
CALSCALE:GREGORIAN
METHOD:PUBLISH
X-WR-CALNAME:Chodovská tvrz
X-ORIGINAL-URL:https://chodovskatvrz.cz
X-WR-CALDESC:Akce na Chodovská tvrz
BEGIN:VTIMEZONE
TZID:Europe/Prague
BEGIN:DAYLIGHT
TZOFFSETFROM:+0100
TZOFFSETTO:+0200
TZNAME:CEST
DTSTART:20190331T010000
END:DAYLIGHT
BEGIN:STANDARD
TZOFFSETFROM:+0200
TZOFFSETTO:+0100
TZNAME:CET
DTSTART:20191027T010000
END:STANDARD
END:VTIMEZONE
BEGIN:VEVENT
DTSTART;TZID=Europe/Prague:20190310T150000
DTEND;TZID=Europe/Prague:20190310T160000
DTSTAMP:20260424T232220
CREATED:20190226T155010Z
LAST-MODIFIED:20190228T101357Z
UID:1262-1552230000-1552233600@chodovskatvrz.cz
SUMMARY:Nejkrásnější příběh světa
DESCRIPTION:Přinese miminko čáp? A jak si takové miminko žije v bříšku maminky\, a co všechno spolu zažívají\, se v této pohádce dozvíte. A protože maminka je tak trochu klaun\, bude u toho i legrace. A zahrají si s ní i diváci. \nHraje Mirka Vydrová z Divadla Bořivoj.
URL:https://chodovskatvrz.cz/udalost/nedelni-pohadka-pro-deti-nejkrasnejsi-pribeh-sveta/
LOCATION:Velký sál Chodovské tvrze\, Ledvinova 9\, Praha 4\, 14900\, Česká republika
CATEGORIES:Dětské programy
ATTACH;FMTTYPE=image/png:https://chodovskatvrz.cz/wp-content/uploads/2019/02/Nejkrásnější-příběh-světa-web.png
END:VEVENT
END:VCALENDAR