BEGIN:VCALENDAR
VERSION:2.0
PRODID:-//Chodovská tvrz - ECPv5.7.0//NONSGML v1.0//EN
CALSCALE:GREGORIAN
METHOD:PUBLISH
X-WR-CALNAME:Chodovská tvrz
X-ORIGINAL-URL:https://chodovskatvrz.cz
X-WR-CALDESC:Akce na Chodovská tvrz
BEGIN:VTIMEZONE
TZID:Europe/Prague
BEGIN:DAYLIGHT
TZOFFSETFROM:+0100
TZOFFSETTO:+0200
TZNAME:CEST
DTSTART:20220327T010000
END:DAYLIGHT
BEGIN:STANDARD
TZOFFSETFROM:+0200
TZOFFSETTO:+0100
TZNAME:CET
DTSTART:20221030T010000
END:STANDARD
END:VTIMEZONE
BEGIN:VEVENT
DTSTART;TZID=Europe/Prague:20220410T150000
DTEND;TZID=Europe/Prague:20220410T160000
DTSTAMP:20260425T005546
CREATED:20220315T121058Z
LAST-MODIFIED:20220315T121058Z
UID:4408-1649602800-1649606400@chodovskatvrz.cz
SUMMARY:Nedělní pohádka pro děti: Perníková chaloupka
DESCRIPTION:Říkáte si: “Jaj\, ten se ale seknul\, dal k perníkové chaloupce obrázek čerta!” Ale nemáte pravdu. Ten čert je tam schválně. On je totiž jedním z hlavních hrdinů tohoto příběhu. Bylo – nebylo jedno peklo a v něm čert Belzebub měl synovce Luciáše. A ten se mu chtěl zavděčit\, jen pokazil\, na co přišel. Pak dostal poslední šanci – “strejda Bub” ho vyslal “na případ” – rovnou do Perníkové chaloupky. A dál už to znáte. Nebo neznáte? Divadlo Kubko. 
URL:https://chodovskatvrz.cz/udalost/nedelni-pohadka-pro-deti-pernikova-chaloupka/
LOCATION:Velký sál Chodovské tvrze\, Ledvinova 9\, Praha 4\, 14900\, Česká republika
CATEGORIES:Dětské programy,Divadlo
ATTACH;FMTTYPE=image/jpeg:https://chodovskatvrz.cz/wp-content/uploads/2022/03/Pernikova-chaloupka.jpg
END:VEVENT
END:VCALENDAR