BEGIN:VCALENDAR
VERSION:2.0
PRODID:-//Chodovská tvrz - ECPv5.7.0//NONSGML v1.0//EN
CALSCALE:GREGORIAN
METHOD:PUBLISH
X-WR-CALNAME:Chodovská tvrz
X-ORIGINAL-URL:https://chodovskatvrz.cz
X-WR-CALDESC:Akce na Chodovská tvrz
BEGIN:VTIMEZONE
TZID:Europe/Prague
BEGIN:DAYLIGHT
TZOFFSETFROM:+0100
TZOFFSETTO:+0200
TZNAME:CEST
DTSTART:20220327T010000
END:DAYLIGHT
BEGIN:STANDARD
TZOFFSETFROM:+0200
TZOFFSETTO:+0100
TZNAME:CET
DTSTART:20221030T010000
END:STANDARD
END:VTIMEZONE
BEGIN:VEVENT
DTSTART;TZID=Europe/Prague:20220220T150000
DTEND;TZID=Europe/Prague:20220220T160000
DTSTAMP:20260422T154135
CREATED:20220201T164440Z
LAST-MODIFIED:20220201T164440Z
UID:4330-1645369200-1645372800@chodovskatvrz.cz
SUMMARY:Nedělní pohádka pro děti: Sněhová královna
DESCRIPTION:Hlavními hrdiny příběhu Hanse Christiana Andersena jsou kamarádi Káje a Gerda. Káje jednou trefí kouzelný střep a unese jej Sněhová královna. Gerda\, jeho nejlepší kamarádka\, se ho vydá hledat. Podaří se jí ho vysvobodit? Co a kdo jí cestou potká? A kde se vzal onen střípek? Vše Vám poví naše laponská babička Ovečka. Připravil a hraje: Tomáš Běhal. Vhodné pro děti od 3 let. 
URL:https://chodovskatvrz.cz/udalost/nedelni-pohadka-pro-deti-snehova-kralovna/
LOCATION:Velký sál Chodovské tvrze\, Ledvinova 9\, Praha 4\, 14900\, Česká republika
CATEGORIES:Dětské programy
ATTACH;FMTTYPE=image/jpeg:https://chodovskatvrz.cz/wp-content/uploads/2022/02/Snehova-kralovna.jpg
END:VEVENT
END:VCALENDAR