BEGIN:VCALENDAR
VERSION:2.0
PRODID:-//Chodovská tvrz - ECPv5.7.0//NONSGML v1.0//EN
CALSCALE:GREGORIAN
METHOD:PUBLISH
X-WR-CALNAME:Chodovská tvrz
X-ORIGINAL-URL:https://chodovskatvrz.cz
X-WR-CALDESC:Akce na Chodovská tvrz
BEGIN:VTIMEZONE
TZID:Europe/Prague
BEGIN:DAYLIGHT
TZOFFSETFROM:+0100
TZOFFSETTO:+0200
TZNAME:CEST
DTSTART:20220327T010000
END:DAYLIGHT
BEGIN:STANDARD
TZOFFSETFROM:+0200
TZOFFSETTO:+0100
TZNAME:CET
DTSTART:20221030T010000
END:STANDARD
END:VTIMEZONE
BEGIN:VEVENT
DTSTART;TZID=Europe/Prague:20220120T193000
DTEND;TZID=Europe/Prague:20220120T210000
DTSTAMP:20260422T122915
CREATED:20211202T184953Z
LAST-MODIFIED:20211215T093227Z
UID:4231-1642707000-1642712400@chodovskatvrz.cz
SUMMARY:Novoroční koncert Jaroslava Svěceného
DESCRIPTION:Jaroslav Svěcený vám za doprovodu renomované české cembalistky Jitky Navrátilové zahraje nádhernou hudbu  A. Corelliho\, A. Vivaldiho\, G. Tartiniho\, J. S. Bacha\, G. F. Händela\, J. M. Leclaira\, F. Bendy a zároveň v premiéře představí svoji zbrusu novou skladbu\, která v průběhu roku zazní v pěti zemích.  Celý koncert uslyšíte na originálních italských houslích z 18.století\, průvodní slovo J. Svěceného určitě zaujme všechny generace. Jaroslav Svěcený: housle a průvodní slovo\, Jitka Navrátilová: cembalo.
URL:https://chodovskatvrz.cz/udalost/novorocni-dvojkoncert-jaroslava-sveceneho-2/
LOCATION:Velký sál Chodovské tvrze\, Ledvinova 9\, Praha 4\, 14900\, Česká republika
CATEGORIES:Koncerty
ATTACH;FMTTYPE=image/jpeg:https://chodovskatvrz.cz/wp-content/uploads/2021/11/258002135_3004289133175364_6573065515789341604_n.jpg
END:VEVENT
END:VCALENDAR