BEGIN:VCALENDAR
VERSION:2.0
PRODID:-//Chodovská tvrz - ECPv5.7.0//NONSGML v1.0//EN
CALSCALE:GREGORIAN
METHOD:PUBLISH
X-WR-CALNAME:Chodovská tvrz
X-ORIGINAL-URL:https://chodovskatvrz.cz
X-WR-CALDESC:Akce na Chodovská tvrz
BEGIN:VTIMEZONE
TZID:Europe/Prague
BEGIN:DAYLIGHT
TZOFFSETFROM:+0100
TZOFFSETTO:+0200
TZNAME:CEST
DTSTART:20250330T010000
END:DAYLIGHT
BEGIN:STANDARD
TZOFFSETFROM:+0200
TZOFFSETTO:+0100
TZNAME:CET
DTSTART:20251026T010000
END:STANDARD
END:VTIMEZONE
BEGIN:VEVENT
DTSTART;TZID=Europe/Prague:20251112T190000
DTEND;TZID=Europe/Prague:20251112T203000
DTSTAMP:20260419T212107
CREATED:20251004T152858Z
LAST-MODIFIED:20251017T134426Z
UID:7418-1762974000-1762979400@chodovskatvrz.cz
SUMMARY:Osobnosti zblízka: DAVID MATÁSEK
DESCRIPTION:Nová komorní talk show v okouzlujících prostorech Chodovské tvrze nabídne osobní pohled na významné osobnosti současnosti. Hostem bude herec David Matásek. \nModeruje Sebastian Klimeš.
URL:https://chodovskatvrz.cz/udalost/osobnosti-z-blizka-david-matasek/
LOCATION:Velký sál Chodovské tvrze\, Ledvinova 9\, Praha 4\, 14900\, Česká republika
CATEGORIES:Ostatní
ATTACH;FMTTYPE=image/jpeg:https://chodovskatvrz.cz/wp-content/uploads/2025/10/David-Matasek-e1759591719228.jpg
END:VEVENT
END:VCALENDAR