BEGIN:VCALENDAR
VERSION:2.0
PRODID:-//Chodovská tvrz - ECPv5.7.0//NONSGML v1.0//EN
CALSCALE:GREGORIAN
METHOD:PUBLISH
X-WR-CALNAME:Chodovská tvrz
X-ORIGINAL-URL:https://chodovskatvrz.cz
X-WR-CALDESC:Akce na Chodovská tvrz
BEGIN:VTIMEZONE
TZID:Europe/Prague
BEGIN:DAYLIGHT
TZOFFSETFROM:+0100
TZOFFSETTO:+0200
TZNAME:CEST
DTSTART:20200329T010000
END:DAYLIGHT
BEGIN:STANDARD
TZOFFSETFROM:+0200
TZOFFSETTO:+0100
TZNAME:CET
DTSTART:20201025T010000
END:STANDARD
END:VTIMEZONE
BEGIN:VEVENT
DTSTART;TZID=Europe/Prague:20200129T130000
DTEND;TZID=Europe/Prague:20200315T190000
DTSTAMP:20260424T061943
CREATED:20191212T161209Z
LAST-MODIFIED:20200304T142644Z
UID:2287-1580302800-1584298800@chodovskatvrz.cz
SUMMARY:POP-ART!
DESCRIPTION:POP-ART! \nAndy Warhol\, Roy Lichtenstein\, Jim Dine\, Robert Indiana\, Jasper Johns\, Allen Jones\, Robert Rauschenberg a další. \nVelká galerie Chodovské tvrze uvádí prodejní výstavu děl nejslavnějších představitelů pop-artu\, čili popular artu\, který se stal novodobým uměleckým směrem vznikajícím paralelně v USA a Velké Británii na přelomu 50. a 60. let 20. století. Projevy pop-artu byly zřetelné nejprve v médiu časopisů a novin\, zejména v oblasti reklamy. Charakteristickými výrazovými prostředky tohoto stylu se stalo užívání kombinovaných materiálů grafických a fotografických v kombinaci sytých kontrastních barev. Etikety z konzerv\, barvou retušované fotografie\, komiksy\, portréty z plakátů\, to vše dokázal pop-art postupně povýšit na umění. Stal se z něj symbol i trvalý pojem světového výtvarného umění 20. století a nutno podotknout\, že umění velmi originálního a celosvětově vysoce oceňovaného. \n  \n 
URL:https://chodovskatvrz.cz/udalost/pop-art/
LOCATION:Velká galerie Chodovské tvrze\, Ledvinova 9\, Praha 4\, 14900\, Česká republika
CATEGORIES:Výstavy
ATTACH;FMTTYPE=image/jpeg:https://chodovskatvrz.cz/wp-content/uploads/2019/12/Marilyn_Pop_Art_KLIČ.jpg
END:VEVENT
END:VCALENDAR