BEGIN:VCALENDAR
VERSION:2.0
PRODID:-//Chodovská tvrz - ECPv5.7.0//NONSGML v1.0//EN
CALSCALE:GREGORIAN
METHOD:PUBLISH
X-WR-CALNAME:Chodovská tvrz
X-ORIGINAL-URL:https://chodovskatvrz.cz
X-WR-CALDESC:Akce na Chodovská tvrz
BEGIN:VTIMEZONE
TZID:Europe/Prague
BEGIN:DAYLIGHT
TZOFFSETFROM:+0100
TZOFFSETTO:+0200
TZNAME:CEST
DTSTART:20230326T010000
END:DAYLIGHT
BEGIN:STANDARD
TZOFFSETFROM:+0200
TZOFFSETTO:+0100
TZNAME:CET
DTSTART:20231029T010000
END:STANDARD
END:VTIMEZONE
BEGIN:VEVENT
DTSTART;TZID=Europe/Prague:20230503T180000
DTEND;TZID=Europe/Prague:20230503T200000
DTSTAMP:20260425T223728
CREATED:20230307T151103Z
LAST-MODIFIED:20230424T065911Z
UID:5432-1683136800-1683144000@chodovskatvrz.cz
SUMMARY:"Povídání o životě\, zdraví a duši." MUDr. Jan Hnízdil a Karel Kekeši.
DESCRIPTION:Jan Hnízdil je znám díky svému veřejnému působení a knihám\, snaze o výklad medicíny celostně (komplexně\, holisticky)\, tj. tak\, že zdravotní stav pacienta výrazně závisí na jeho psychickém stavu a na jeho tzv. životním příběhu. \nZaložil centrum komplexní medicíny „Hnízdo zdraví“. \nKarel Kekeši (dříve K. Richard Marinov) se věnuje harmonizaci lidské psychiky\, odblokování psychických traumat a napětí za pomoci intuitivního zpěvu. Je to technika\, kterou znali již naši dávní předkové (egyptští kněží\, tibetští lámové a šamani). Jde o zpívání různě vysokých tónů\, které dokáží svojí vibrací příznivě působit na orgány v těle\, a tím dochází k uvolnění napětí.
URL:https://chodovskatvrz.cz/udalost/povidani-o-zivote-zdravi-a-dusi-mudr-jan-hnizdil-a-reziser-igor-chaun/
LOCATION:Velký sál Chodovské tvrze\, Ledvinova 9\, Praha 4\, 14900\, Česká republika
CATEGORIES:Besedy
ATTACH;FMTTYPE=image/jpeg:https://chodovskatvrz.cz/wp-content/uploads/2023/03/FOTO-Hnizdil-2.jpg
END:VEVENT
END:VCALENDAR