BEGIN:VCALENDAR
VERSION:2.0
PRODID:-//Chodovská tvrz - ECPv5.7.0//NONSGML v1.0//EN
CALSCALE:GREGORIAN
METHOD:PUBLISH
X-WR-CALNAME:Chodovská tvrz
X-ORIGINAL-URL:https://chodovskatvrz.cz
X-WR-CALDESC:Akce na Chodovská tvrz
BEGIN:VTIMEZONE
TZID:Europe/Prague
BEGIN:DAYLIGHT
TZOFFSETFROM:+0100
TZOFFSETTO:+0200
TZNAME:CEST
DTSTART:20190331T010000
END:DAYLIGHT
BEGIN:STANDARD
TZOFFSETFROM:+0200
TZOFFSETTO:+0100
TZNAME:CET
DTSTART:20191027T010000
END:STANDARD
END:VTIMEZONE
BEGIN:VEVENT
DTSTART;TZID=Europe/Prague:20190417T180000
DTEND;TZID=Europe/Prague:20190417T193000
DTSTAMP:20260424T201409
CREATED:20190308T160030Z
LAST-MODIFIED:20190322T110604Z
UID:1426-1555524000-1555529400@chodovskatvrz.cz
SUMMARY:Šansony na tvrzi
DESCRIPTION:Pravidelná šansonová setkání každou třetí středu v měsíci. V dubnu vystoupí divácky oblíbená konstelace s Janou Rychterovou a Filipem Sychrou. Na klavír doprovodí Petr Ožana. Jako host přijde básník a publicista Jiří Teper.
URL:https://chodovskatvrz.cz/udalost/sansony-na-tvrzi-3/
LOCATION:Velký sál Chodovské tvrze\, Ledvinova 9\, Praha 4\, 14900\, Česká republika
CATEGORIES:Koncerty
ATTACH;FMTTYPE=image/jpeg:https://chodovskatvrz.cz/wp-content/uploads/2019/02/nahled2.jpg
END:VEVENT
END:VCALENDAR