BEGIN:VCALENDAR
VERSION:2.0
PRODID:-//Chodovská tvrz - ECPv5.7.0//NONSGML v1.0//EN
CALSCALE:GREGORIAN
METHOD:PUBLISH
X-WR-CALNAME:Chodovská tvrz
X-ORIGINAL-URL:https://chodovskatvrz.cz
X-WR-CALDESC:Akce na Chodovská tvrz
BEGIN:VTIMEZONE
TZID:Europe/Prague
BEGIN:DAYLIGHT
TZOFFSETFROM:+0100
TZOFFSETTO:+0200
TZNAME:CEST
DTSTART:20250330T010000
END:DAYLIGHT
BEGIN:STANDARD
TZOFFSETFROM:+0200
TZOFFSETTO:+0100
TZNAME:CET
DTSTART:20251026T010000
END:STANDARD
END:VTIMEZONE
BEGIN:VEVENT
DTSTART;TZID=Europe/Prague:20251004T110000
DTEND;TZID=Europe/Prague:20251004T190000
DTSTAMP:20260419T212802
CREATED:20250809T105048Z
LAST-MODIFIED:20250809T105048Z
UID:7213-1759575600-1759604400@chodovskatvrz.cz
SUMMARY:STREET FOOD and WINE na Chodovské tvrzi
DESCRIPTION:To nejlepší ze světového street foodu a vína na jednom místě! \nV sobotu 4. října 2025 vás zveme na 1. ročník akce STREET FOOD and WINE\, která se uskuteční na Chodovské tvrzi na Praze 11. \nPřijďte ochutnat světové chutě\, užít si pohodovou atmosféru a zábavu pro celou rodinu! \n  \nVstup zdarma. \n 
URL:https://chodovskatvrz.cz/udalost/street-food-and-wine-na-chodovske-tvrzi/
LOCATION:Nádvoří Chodovské tvrze\, Ledvinova 9\, Praha 4\, 149 00\, Česká republika
CATEGORIES:Ostatní
ATTACH;FMTTYPE=image/jpeg:https://chodovskatvrz.cz/wp-content/uploads/2025/08/street-food-wine_4-1.jpg
END:VEVENT
END:VCALENDAR