BEGIN:VCALENDAR
VERSION:2.0
PRODID:-//Chodovská tvrz - ECPv5.7.0//NONSGML v1.0//EN
CALSCALE:GREGORIAN
METHOD:PUBLISH
X-WR-CALNAME:Chodovská tvrz
X-ORIGINAL-URL:https://chodovskatvrz.cz
X-WR-CALDESC:Akce na Chodovská tvrz
BEGIN:VTIMEZONE
TZID:Europe/Prague
BEGIN:DAYLIGHT
TZOFFSETFROM:+0100
TZOFFSETTO:+0200
TZNAME:CEST
DTSTART:20220327T010000
END:DAYLIGHT
BEGIN:STANDARD
TZOFFSETFROM:+0200
TZOFFSETTO:+0100
TZNAME:CET
DTSTART:20221030T010000
END:STANDARD
END:VTIMEZONE
BEGIN:VEVENT
DTSTART;TZID=Europe/Prague:20220218T130000
DTEND;TZID=Europe/Prague:20220331T190000
DTSTAMP:20260425T005215
CREATED:20220104T072040Z
LAST-MODIFIED:20220207T120611Z
UID:4282-1645189200-1648753200@chodovskatvrz.cz
SUMMARY:Tavík František Šimon: Listy z cesty kolem světa
DESCRIPTION:Tavík František Šimon ( 1887- 1942) – grafiky  \nListy z cesty kolem světa  \nZasněžená Paříž\, Londýn\, New York\, Praha\, Tokio\, Hongkong\, Singapur to jsou náměty obrazů Tavíka Františka Šimona. Paříž a Praha byly nejvíce malovanými a milovanými městy tohoto grafika a malíře\, který procestoval několik kontinentů a vystavoval v Londýně i New Yorku. Ve dvacátých letech podnikl cestu kolem světa. Své zážitky popsal ve své cestopisné knize Listy z cesty kolem světa\, podle které je pojmenována celá výstava v Chodovské tvrzi. Šimonovy cesty v jistém smyslu pokračují dodnes\, a to díky trvalému zahraničnímu zájmu o jeho obrazy.
URL:https://chodovskatvrz.cz/udalost/tavik-frantisek-simon-cesta-kolem-sveta/
LOCATION:Velká galerie Chodovské tvrze\, Ledvinova 9\, Praha 4\, 14900\, Česká republika
CATEGORIES:Výstavy
ATTACH;FMTTYPE=image/jpeg:https://chodovskatvrz.cz/wp-content/uploads/2022/01/820x312_simon.jpg
END:VEVENT
END:VCALENDAR