BEGIN:VCALENDAR
VERSION:2.0
PRODID:-//Chodovská tvrz - ECPv5.7.0//NONSGML v1.0//EN
CALSCALE:GREGORIAN
METHOD:PUBLISH
X-WR-CALNAME:Chodovská tvrz
X-ORIGINAL-URL:https://chodovskatvrz.cz
X-WR-CALDESC:Akce na Chodovská tvrz
BEGIN:VTIMEZONE
TZID:Europe/Prague
BEGIN:DAYLIGHT
TZOFFSETFROM:+0100
TZOFFSETTO:+0200
TZNAME:CEST
DTSTART:20220327T010000
END:DAYLIGHT
BEGIN:STANDARD
TZOFFSETFROM:+0200
TZOFFSETTO:+0100
TZNAME:CET
DTSTART:20221030T010000
END:STANDARD
END:VTIMEZONE
BEGIN:VEVENT
DTSTART;TZID=Europe/Prague:20220615T130000
DTEND;TZID=Europe/Prague:20220724T190000
DTSTAMP:20260425T053308
CREATED:20220504T184028Z
LAST-MODIFIED:20220620T162013Z
UID:4545-1655298000-1658689200@chodovskatvrz.cz
SUMMARY:Umění je abstrakce
DESCRIPTION:Obrazy\, kresby\, grafika\, sochy  \nVladimír Boudník\, Václav Boštík\, Hugo Demartini\, Jan Koblasa\, Jan Kotík\, Jan Kubíček\, Karel Malich\, Zdeněk Sýkora\, Adriena Šimotová\, Miloš Urbásek\, Karel Trinkewitz\, Jiří Vaněk\, Jaroslav Vožniak   \n Abstraktní umění je styl moderního výtvarného umění postrádající konkrétní figury\, objekty a detaily. V galerii Chodovská tvrz se představí výčet těch nejznámějších autorů\, kteří ve své tvorbě dospěli k abstrakci. Byl to jejich celoživotní proces. Ve svých počátcích většinou prošli realistickým obdobím. Definovat abstraktní umění není snadné\, jde o individuální a různorodý směr. Abstrakci můžeme rozdělit na dva hlavní proudy. V prvním případě díla vychází z linky\, jako to vidíme u Zdeňka Sýkory\, nebo ve druhém jde o vyabstrahovanou realitu\, například pozdější dílo Josefa Šímy. 
URL:https://chodovskatvrz.cz/udalost/umeni-je-abstrakce/
LOCATION:Velká galerie Chodovské tvrze\, Ledvinova 9\, Praha 4\, 14900\, Česká republika
CATEGORIES:Výstavy
ATTACH;FMTTYPE=image/jpeg:https://chodovskatvrz.cz/wp-content/uploads/2022/05/820x312_abstrakce.jpg
END:VEVENT
END:VCALENDAR