BEGIN:VCALENDAR
VERSION:2.0
PRODID:-//Chodovská tvrz - ECPv5.7.0//NONSGML v1.0//EN
CALSCALE:GREGORIAN
METHOD:PUBLISH
X-WR-CALNAME:Chodovská tvrz
X-ORIGINAL-URL:https://chodovskatvrz.cz
X-WR-CALDESC:Akce na Chodovská tvrz
BEGIN:VTIMEZONE
TZID:Europe/Prague
BEGIN:DAYLIGHT
TZOFFSETFROM:+0100
TZOFFSETTO:+0200
TZNAME:CEST
DTSTART:20260329T010000
END:DAYLIGHT
BEGIN:STANDARD
TZOFFSETFROM:+0200
TZOFFSETTO:+0100
TZNAME:CET
DTSTART:20261025T010000
END:STANDARD
END:VTIMEZONE
BEGIN:VEVENT
DTSTART;TZID=Europe/Prague:20260624T190000
DTEND;TZID=Europe/Prague:20260624T210000
DTSTAMP:20260425T035704
CREATED:20260310T130449Z
LAST-MODIFIED:20260401T111238Z
UID:7695-1782327600-1782334800@chodovskatvrz.cz
SUMMARY:Vlny Chodovské tvrze 2026: Florian Zeller – JEN PRAVDU\, DRAHÝ
DESCRIPTION:Francouzská komedie o nevěře\, ve které se lže jako o závod.  \nBrilantně rozehraný příběh čtveřice Pařížanů a jejich (ne)bezpečných vztahů. Michel musí lhát\, protože jinak nedokáže ustát situaci\, v níž už půl roku podvádí manželku s Alicí\, ženou svého nejlepšího přítele Paula. Naštěstí mají dokonalý systém\, takže na jejich poměr nikdo nemůže přijít a tudíž nikomu nepůsobí žádnou bolest. Jednou ale systém poruší a Michelova žena Laurence\, jako by začínala něco tušit. A co když na všechno navíc ještě přijde Paul? Anebo je to ještě úplně jinak? Michel ani trochu není připravený na možnost\, že by se karta mohla obrátit. A události naberou nečekaný spád… Hrají: Jan Čenský\, Dana Morávková\, Josef Carda\, Štěpánka Křesťanová. Režie: Antonín Procházka.  \n  \nZákladní vstupné od 1. 4.: 650\,- Kč \nVstupné pro ZTP a ZTP/P od 1. 4.: 325\,- Kč
URL:https://chodovskatvrz.cz/udalost/vlny-chodovske-tvrze-2026-florian-zeller-jen-pravdu-drahy/
LOCATION:Nádvoří Chodovské tvrze\, Ledvinova 9\, Praha 4\, 149 00\, Česká republika
CATEGORIES:Divadlo
ATTACH;FMTTYPE=image/jpeg:https://chodovskatvrz.cz/wp-content/uploads/2026/03/jen_pravdu_drahy.jpg
END:VEVENT
END:VCALENDAR