BEGIN:VCALENDAR
VERSION:2.0
PRODID:-//Chodovská tvrz - ECPv5.7.0//NONSGML v1.0//EN
CALSCALE:GREGORIAN
METHOD:PUBLISH
X-WR-CALNAME:Chodovská tvrz
X-ORIGINAL-URL:https://chodovskatvrz.cz
X-WR-CALDESC:Akce na Chodovská tvrz
BEGIN:VTIMEZONE
TZID:Europe/Prague
BEGIN:DAYLIGHT
TZOFFSETFROM:+0100
TZOFFSETTO:+0200
TZNAME:CEST
DTSTART:20260329T010000
END:DAYLIGHT
BEGIN:STANDARD
TZOFFSETFROM:+0200
TZOFFSETTO:+0100
TZNAME:CET
DTSTART:20261025T010000
END:STANDARD
END:VTIMEZONE
BEGIN:VEVENT
DTSTART;TZID=Europe/Prague:20260619T190000
DTEND;TZID=Europe/Prague:20260619T210000
DTSTAMP:20260425T025311
CREATED:20260310T123825Z
LAST-MODIFIED:20260401T111508Z
UID:7686-1781895600-1781902800@chodovskatvrz.cz
SUMMARY:Vlny Chodovské tvrze 2026: Speciální host ABBA CZ REVIVAL
DESCRIPTION:Show a energie! To jsou slova\, která nejlépe vystihují vystoupení kapely ABBA CZ\, soboru složeného ze skvělých hudebníků\, pro které je charakteristické perfektní provedení a dokonalé nastudování jednotlivých partů\, zvuků a aranží. Stoprocentně živá\, dynamická show a hlavně nesmrtelné skvělé hity legendární skupiny ABBA. Nechybí originální kostýmy\, taneční choreografie\, disco a neopakovatelná atmosféra 80 let.  \n  \nZákladní vstupné od 1. 4.: 650\,- Kč \nVstupné pro ZTP a ZTP/P od 1. 4.: 325\,- Kč
URL:https://chodovskatvrz.cz/udalost/vlny-chodovske-tvrze-2026-specialni-host-abba-cz-revival/
LOCATION:Nádvoří Chodovské tvrze\, Ledvinova 9\, Praha 4\, 149 00\, Česká republika
CATEGORIES:Koncerty
ATTACH;FMTTYPE=image/jpeg:https://chodovskatvrz.cz/wp-content/uploads/2026/03/abba_revival.jpg
END:VEVENT
END:VCALENDAR