BEGIN:VCALENDAR
VERSION:2.0
PRODID:-//Chodovská tvrz - ECPv5.7.0//NONSGML v1.0//EN
CALSCALE:GREGORIAN
METHOD:PUBLISH
X-WR-CALNAME:Chodovská tvrz
X-ORIGINAL-URL:https://chodovskatvrz.cz
X-WR-CALDESC:Akce na Chodovská tvrz
BEGIN:VTIMEZONE
TZID:Europe/Prague
BEGIN:DAYLIGHT
TZOFFSETFROM:+0100
TZOFFSETTO:+0200
TZNAME:CEST
DTSTART:20260329T010000
END:DAYLIGHT
BEGIN:STANDARD
TZOFFSETFROM:+0200
TZOFFSETTO:+0100
TZNAME:CET
DTSTART:20261025T010000
END:STANDARD
END:VTIMEZONE
BEGIN:VEVENT
DTSTART;TZID=Europe/Prague:20260615T190000
DTEND;TZID=Europe/Prague:20260615T213000
DTSTAMP:20260425T043247
CREATED:20260310T122016Z
LAST-MODIFIED:20260401T111917Z
UID:7673-1781550000-1781559000@chodovskatvrz.cz
SUMMARY:Vlny Chodovské tvrze 2026 Zahajovací koncert – JAKUB PUSTINA: SLAVNÉ FILMOVÉ MELODIE
DESCRIPTION:Zveme vás na výjimečný hudební večer\, který vás zavede do světa nezapomenutelných filmových příběhů a emocí. Koncert Slavné filmové melodie nabídne výběr těch nejkrásnějších a nejslavnějších písní a hudebních témat světové kinematografie v podání předních českých interpretů.  \nCharismatický tenorista Jakub Pustina\, známý svým výrazným hlasem a citlivým hudebním projevem\, vystoupí za doprovodu komorního kvarteta Virtuosi Brunenses. Společně vytvoří jedinečnou atmosféru\, v níž se propojí síla lidského hlasu s noblesou a jemností smyčcových nástrojů.  \nNa posluchače čeká pestrý program složený z legendárních filmových melodií\, které se staly nedílnou součástí filmové historie. Zazní hudba z ikonických snímků\, jako jsou Kmotr\, Snídaně u Tiffanyho\, Star Wars\, Mission: Impossible\, Tenkrát na Západě\, Pán prstenů a mnohé další.   \nKoncert je určen nejen milovníkům klasické hudby\, ale i fanouškům filmu všech generací.   \n  \nZákladní vstupné od 1. 4.: 490\,- Kč \nVstupné pro ZTP a ZTP/P od 1. 4.: 245\,- Kč \nFestival pas od 1. 4.: 3 129\,- Kč
URL:https://chodovskatvrz.cz/udalost/vlny-chodovske-tvrze-2026-zahajovaci-koncert-jakub-pustina-slavne-filmove-melodie/
LOCATION:Nádvoří Chodovské tvrze\, Ledvinova 9\, Praha 4\, 149 00\, Česká republika
CATEGORIES:Koncerty
ATTACH;FMTTYPE=image/png:https://chodovskatvrz.cz/wp-content/uploads/2026/03/Pustina.png
END:VEVENT
END:VCALENDAR