BEGIN:VCALENDAR
VERSION:2.0
PRODID:-//Chodovská tvrz - ECPv5.7.0//NONSGML v1.0//EN
CALSCALE:GREGORIAN
METHOD:PUBLISH
X-WR-CALNAME:Chodovská tvrz
X-ORIGINAL-URL:https://chodovskatvrz.cz
X-WR-CALDESC:Akce na Chodovská tvrz
BEGIN:VTIMEZONE
TZID:Europe/Prague
BEGIN:DAYLIGHT
TZOFFSETFROM:+0100
TZOFFSETTO:+0200
TZNAME:CEST
DTSTART:20230326T010000
END:DAYLIGHT
BEGIN:STANDARD
TZOFFSETFROM:+0200
TZOFFSETTO:+0100
TZNAME:CET
DTSTART:20231029T010000
END:STANDARD
END:VTIMEZONE
BEGIN:VEVENT
DTSTART;TZID=Europe/Prague:20230426T130000
DTEND;TZID=Europe/Prague:20230604T190000
DTSTAMP:20260425T204948
CREATED:20230308T074608Z
LAST-MODIFIED:20230526T145025Z
UID:5443-1682514000-1685905200@chodovskatvrz.cz
SUMMARY:Výstava: František Gross - obrazy\, kresby\, grafika
DESCRIPTION:František Gross patřil k našim nejvýraznějším malířským osobnostem 20. století. Narodil se v Nové Pace v roce 1909 a zemřel v roce 1985 v Praze.  \nVystudoval UMPRUM a v roce 1942 byl jedním z předních zakladatelů Skupiny 42. Byl to malíř s neomylným výtvarným citem a nevyčerpatelnou tvarovou fantazií. Malíř města. Na jeho obrazech tím městem byla Praha. Objevoval ji\, nacházel nepovšimnutá místa\, nové pohledy\, periferii. Měl vrozenou vnímavost ke krajině\, jakýkoliv výtvarný záznam otevřeného prostoru považoval za krajinu. Dovedl souběžně užít různých výtvarných prostředků v rozpětí od konkrétnosti k abstrakci. Měl schopnost umělecky podněcovat jako inspirující osobnost pro současníky\, Skupinu 42  i mladší umělce\, kteří k němu našli bezprostřední vztah.  \nNechte se též tímto jedinečným umělcem inspirovat a přijďte se podívat na jeho výjimečnou výstavu.  \nKurátorka výstavy Mgr. Pavla Vaňková  \nGalerie je otevřena denně\, mimo pondělí\, od 13.00-19.00 \nVýstava končí v neděli 4. 6. 2023 v 15. hodin.
URL:https://chodovskatvrz.cz/udalost/vystava-frantisek-gross-obrazy-kresby-grafika/
LOCATION:Velká galerie Chodovské tvrze\, Ledvinova 9\, Praha 4\, 14900\, Česká republika
CATEGORIES:Výstavy
ATTACH;FMTTYPE=image/jpeg:https://chodovskatvrz.cz/wp-content/uploads/2023/03/Frantisek-Gross1-e1683730240374.jpg
END:VEVENT
END:VCALENDAR