BEGIN:VCALENDAR
VERSION:2.0
PRODID:-//Chodovská tvrz - ECPv5.7.0//NONSGML v1.0//EN
CALSCALE:GREGORIAN
METHOD:PUBLISH
X-WR-CALNAME:Chodovská tvrz
X-ORIGINAL-URL:https://chodovskatvrz.cz
X-WR-CALDESC:Akce na Chodovská tvrz
BEGIN:VTIMEZONE
TZID:Europe/Prague
BEGIN:DAYLIGHT
TZOFFSETFROM:+0100
TZOFFSETTO:+0200
TZNAME:CEST
DTSTART:20230326T010000
END:DAYLIGHT
BEGIN:STANDARD
TZOFFSETFROM:+0200
TZOFFSETTO:+0100
TZNAME:CET
DTSTART:20231029T010000
END:STANDARD
END:VTIMEZONE
BEGIN:VEVENT
DTSTART;TZID=Europe/Prague:20231004T130000
DTEND;TZID=Europe/Prague:20231119T150000
DTSTAMP:20260426T040539
CREATED:20230829T083151Z
LAST-MODIFIED:20231109T153945Z
UID:5831-1696424400-1700406000@chodovskatvrz.cz
SUMMARY:Výstava klasiků české grafiky: Vladimír Suchánek\, Pavel Sukdolák\, Jiří Šalamoun
DESCRIPTION:4. 10. – 19. 11.\n\n\nDalší připravovaná výstava na Chodovské tvrzi představí dílo klasiků české grafiky Vladimíra Suchánka\, Pavla Sukdoláka a Jiřího Šalamouna. Všichni tito význační ilustrátoři jsou autory desítky knižních ilustrací jak pro dětské čtenáře\, tak i pro dospělé.\nJiří Šalamoun se vryl do dětských srdcí především jako autor výtvarné podoby Maxipsa Fíka. Celý život byl s touto postavou mluvícího psa spojován a široká veřejnost je mnohdy překvapena\, jaký tvůrčí záběr výtvarník měl.\nNa výstavě v Chodovské tvrzi se představí širší retrospektiva především grafických děl těchto výjimečných autorů.\n\nVstupné: 100/50 Kč.\n\nVýstava bude končit v neděli 19. 11. 2023 v 15. hodin. Poté se budou vydávat prodané obrazy.
URL:https://chodovskatvrz.cz/udalost/vystava-klasiku-ceske-grafiky-vladimir-suchanek-pavel-sukdolak-jiri-salamoun/
LOCATION:Velká galerie Chodovské tvrze\, Ledvinova 9\, Praha 4\, 14900\, Česká republika
CATEGORIES:Výstavy
ATTACH;FMTTYPE=image/jpeg:https://chodovskatvrz.cz/wp-content/uploads/2023/08/6M3A5423-scaled.jpg
END:VEVENT
END:VCALENDAR