BEGIN:VCALENDAR
VERSION:2.0
PRODID:-//Chodovská tvrz - ECPv5.7.0//NONSGML v1.0//EN
CALSCALE:GREGORIAN
METHOD:PUBLISH
X-WR-CALNAME:Chodovská tvrz
X-ORIGINAL-URL:https://chodovskatvrz.cz
X-WR-CALDESC:Akce na Chodovská tvrz
BEGIN:VTIMEZONE
TZID:Europe/Prague
BEGIN:DAYLIGHT
TZOFFSETFROM:+0100
TZOFFSETTO:+0200
TZNAME:CEST
DTSTART:20220327T010000
END:DAYLIGHT
BEGIN:STANDARD
TZOFFSETFROM:+0200
TZOFFSETTO:+0100
TZNAME:CET
DTSTART:20221030T010000
END:STANDARD
BEGIN:DAYLIGHT
TZOFFSETFROM:+0100
TZOFFSETTO:+0200
TZNAME:CEST
DTSTART:20230326T010000
END:DAYLIGHT
BEGIN:STANDARD
TZOFFSETFROM:+0200
TZOFFSETTO:+0100
TZNAME:CET
DTSTART:20231029T010000
END:STANDARD
END:VTIMEZONE
BEGIN:VEVENT
DTSTART;TZID=Europe/Prague:20221116T130000
DTEND;TZID=Europe/Prague:20230129T150000
DTSTAMP:20260425T135536
CREATED:20221011T114145Z
LAST-MODIFIED:20230114T151613Z
UID:5069-1668603600-1675004400@chodovskatvrz.cz
SUMMARY:VÝSTAVA: Trnka\, Miler\, Born – kresby\, grafiky 1946 - 2016
DESCRIPTION:Autentičnost i různorodost české ilustrační tvorby 20. století\, její význam pro budoucí českou výtvarnou scénu\, je tématem této výstavy. Výjimečná obrazotvornost a neobyčejně vyvinutý vkus řadí českou ilustraci na vrchol evropského umění 20. století. Výstava představí více jak 80 prací autorů: Jiřího Trnky\, Zdeňka Milera a Adolfa Borna. Součástí výstavy budou pracovní listy pro děti ze základních škol. \nVýstava je prodejní. \nVýstavu můžete navštívit mimo pondělky od úterý do neděle: 13.00-18.00. \nPro velký zájem je výstava prodloužena do 29. 1. 2023 do 15.hodin. \n  \n  \n 
URL:https://chodovskatvrz.cz/udalost/vystava-trnka-miler-born-kresby-grafiky-1946-2016/
LOCATION:Velká galerie Chodovské tvrze\, Ledvinova 9\, Praha 4\, 14900\, Česká republika
CATEGORIES:Výstavy
ATTACH;FMTTYPE=image/jpeg:https://chodovskatvrz.cz/wp-content/uploads/2022/10/310976955_1254569892063860_5673834676521521536_n.jpg
END:VEVENT
END:VCALENDAR