BEGIN:VCALENDAR
VERSION:2.0
PRODID:-//Chodovská tvrz - ECPv5.7.0//NONSGML v1.0//EN
CALSCALE:GREGORIAN
METHOD:PUBLISH
X-WR-CALNAME:Chodovská tvrz
X-ORIGINAL-URL:https://chodovskatvrz.cz
X-WR-CALDESC:Akce na Chodovská tvrz
BEGIN:VTIMEZONE
TZID:Europe/Prague
BEGIN:DAYLIGHT
TZOFFSETFROM:+0100
TZOFFSETTO:+0200
TZNAME:CEST
DTSTART:20190331T010000
END:DAYLIGHT
BEGIN:STANDARD
TZOFFSETFROM:+0200
TZOFFSETTO:+0100
TZNAME:CET
DTSTART:20191027T010000
END:STANDARD
END:VTIMEZONE
BEGIN:VEVENT
DTSTART;TZID=Europe/Prague:20191217T160000
DTEND;TZID=Europe/Prague:20191217T190000
DTSTAMP:20260423T132309
CREATED:20191108T161753Z
LAST-MODIFIED:20191108T161753Z
UID:2197-1576598400-1576609200@chodovskatvrz.cz
SUMMARY:Výtvarná dílna pro dospělé
DESCRIPTION:Výtvarná dílna pro dospělé s vánoční tématikou. \nVstup zdarma.
URL:https://chodovskatvrz.cz/udalost/vytvarna-dilna-pro-dospele/
CATEGORIES:Kurzy a dílny
ATTACH;FMTTYPE=image/jpeg:https://chodovskatvrz.cz/wp-content/uploads/2019/11/Vánoční-dílna.jpg
END:VEVENT
END:VCALENDAR