BEGIN:VCALENDAR
VERSION:2.0
PRODID:-//Chodovská tvrz - ECPv5.7.0//NONSGML v1.0//EN
CALSCALE:GREGORIAN
METHOD:PUBLISH
X-WR-CALNAME:Chodovská tvrz
X-ORIGINAL-URL:https://chodovskatvrz.cz
X-WR-CALDESC:Akce na Chodovská tvrz
BEGIN:VTIMEZONE
TZID:Europe/Prague
BEGIN:DAYLIGHT
TZOFFSETFROM:+0100
TZOFFSETTO:+0200
TZNAME:CEST
DTSTART:20190331T010000
END:DAYLIGHT
BEGIN:STANDARD
TZOFFSETFROM:+0200
TZOFFSETTO:+0100
TZNAME:CET
DTSTART:20191027T010000
END:STANDARD
END:VTIMEZONE
BEGIN:VEVENT
DTSTART;TZID=Europe/Prague:20190405T130000
DTEND;TZID=Europe/Prague:20190428T190000
DTSTAMP:20260424T201404
CREATED:20190308T162247Z
LAST-MODIFIED:20190312T145734Z
UID:1443-1554469200-1556478000@chodovskatvrz.cz
SUMMARY:Z hradu do zámku
DESCRIPTION:Velká galerie Chodovské tvrze uvádí výstavu obrazů naivistické malířky Alexandry Dětinské. Autorka se malbě věnuje od mládí a své obrazy vystavovala již na kolektivních výstavách a salonech. Následovaly též samostatné výstavy jak v Česku\,  tak v zahraničí (Itálie\, Švédsko\, Švýcarsko). Na 27. mezinárodní výstavě naivního umění ve švýcarském Morges získala obrazem Útěk do jiného světa cenu Prix George Kasper. \nKomentovaná prohlídka s malířkou Alexandrou Dětinskou se koná 18. 4. 2019 od 18 hodin. \nVstupné na výstavu i prohlídku je 50/30 Kč.
URL:https://chodovskatvrz.cz/udalost/z-hradu-do-zamku/
LOCATION:Velká galerie Chodovské tvrze\, Ledvinova 9\, Praha 4\, 14900\, Česká republika
CATEGORIES:Výstavy
ATTACH;FMTTYPE=image/jpeg:https://chodovskatvrz.cz/wp-content/uploads/2019/03/Z-hradu-do-zámku.jpg
END:VEVENT
END:VCALENDAR