BEGIN:VCALENDAR
VERSION:2.0
PRODID:-//Chodovská tvrz - ECPv5.7.0//NONSGML v1.0//EN
CALSCALE:GREGORIAN
METHOD:PUBLISH
X-WR-CALNAME:Chodovská tvrz
X-ORIGINAL-URL:https://chodovskatvrz.cz
X-WR-CALDESC:Akce na Chodovská tvrz
BEGIN:VTIMEZONE
TZID:Europe/Prague
BEGIN:DAYLIGHT
TZOFFSETFROM:+0100
TZOFFSETTO:+0200
TZNAME:CEST
DTSTART:20200329T010000
END:DAYLIGHT
BEGIN:STANDARD
TZOFFSETFROM:+0200
TZOFFSETTO:+0100
TZNAME:CET
DTSTART:20201025T010000
END:STANDARD
END:VTIMEZONE
BEGIN:VEVENT
DTSTART;TZID=Europe/Prague:20200419T150000
DTEND;TZID=Europe/Prague:20200419T160000
DTSTAMP:20260424T000314
CREATED:20200311T133338Z
LAST-MODIFIED:20200408T135323Z
UID:2554-1587308400-1587312000@chodovskatvrz.cz
SUMMARY:Zvířátka a loupežníci - PŘESUNUTO NA 11. 10.
DESCRIPTION:NÁHRADNÍ TERMÍN AKCE POSUNUT V DŮSLEDKU OPATŘENÍ SOUVISEJÍCÍCH S NAŘÍZENÍM VLÁDY ČR NA  11. 10. OD 15.00\, DĚKUJEME ZA POCHOPENÍ \nNeštěstí nechodí jenom po horách a po lidech\, ale i po zvířátkách. A ochraptělý kohout odchází ze statku. Záchranná výprava jde v jeho stopách až do hlubokého lesa\, kde narazí na obávaného loupežníka Šlohňajse. Klasický pohádkový příběh je odehrán loutkami Jana Růžičky. Hraje divadlo Kubko.
URL:https://chodovskatvrz.cz/udalost/zviratka-a-loupeznici-2/
LOCATION:Velký sál Chodovské tvrze\, Ledvinova 9\, Praha 4\, 14900\, Česká republika
CATEGORIES:Dětské programy
ATTACH;FMTTYPE=image/jpeg:https://chodovskatvrz.cz/wp-content/uploads/2020/03/Zvířátka-a-loupežníci.jpg
END:VEVENT
END:VCALENDAR